Workbook

Sheet 0.사전진단 방법 안내
A3: [포용적 연구문화 구축 컨설팅 사전진단지 작성 방법] 가. 사전진단 목적 : 컨설팅 신청 전 기관 현황을 사전 진단하여 기관에 필요한 개선사항을 파악하고, 필요한 컨설팅 주제를 선정하기 용이하도록 지원 나. 사전진단 방법 1단계. 진단지 작성 : '1.진단지 시트'의 F열에 답변 입력 (선택항목의 경우 목록에서 선택가능) 2단계. 진단결과 확인 : '3.진단결과_대시보드'의 결과 확인하고 기관 현황에 맞는 컨설팅 주제('개선 권장' 및 '즉시 개선 필요' 진단 영역 확인)를 확인, 관련 주제로 신청서에 작성 다. 기타 안내 : 사전진단지는 컨설팅 참여기관의 기관현황을 파악하도록 지원하는 진단도구이며, 컨설팅 착수 시 기관 현황 진단 보조자료로 활용될 예정이오니, 신청 시 제출 바랍니다.

Sheet 1.진단지
A1: 진단영역 | B1: 응답방식 | C1: 하위 영역 | D1: 설문 문항 | E1: [참고] 선택지 | F1: 답변 입력 (E열) | G1: 답변 입력 (F열) | H1: 자동 계산 비율
A2: 노무 | B2: Y/N | C2: 일·생활균형 제도 점검 및 개선 | D2: 최근 2년 이내 일·생활균형 관련 법령 개정 및 정책 변화에 따라, 우리 기관의 내부 제도나 관련 규정을 점검하거나 개정한 사실이 있습니까? | E2: 예, 아니오
A3: 노무 | B3: Y/N | C3: 유연근무제 현황 | D3: 우리 기관에서 현재 운영 중인 유연근무제를 모두 선택해 주십시오(중복 선택) | E3: 해당하는 항목 모두 체크 (예/아니오) | F3: ↓ 아래 항목 체크
D4: ↳ 시차출퇴근제 | E4: 예 / 아니오
D5: ↳ 선택적 근로시간제(선택근무제) | E5: 예 / 아니오
D6: ↳ 탄력적 근로시간제 | E6: 예 / 아니오
D7: ↳ 재택근무제 | E7: 예 / 아니오
D8: ↳ 집약근무제 | E8: 예 / 아니오
D9: ↳ 시간선택제(단축근무) | E9: 예 / 아니오
D10: ↳ 재량근로시간제 | E10: 예 / 아니오
D11: ↳ 사업장 밖 간주근로시간제 | E11: 예 / 아니오
D12: ↳ 운영 중인 제도 없음 | E12: 예 / 아니오
A13: 노무 | B13: 선택 | C13: 유연근무제 활용도 | D13: 위에서 선택한 제도들이 실제 조직 내에서 얼마나 활발히 사용되고 있습니까? | E13: 제도는 있으나 거의 사용되지 않음 / 일부 부서나 특정 인원만 제한적으로 사용함 / 본인이 원할 때 큰 제약 없이 신청할 수 있음 / 부서원 상당수가 정기적으로 활용하고 있음 / 조직 전반에 완전히 안착하여 자유롭게 활용 중임
A14: 노무 | B14: 선택 | C14: 유연근무제 활용 애로사항 | D14: 유연근무제 도입이나 활성화가 어려운 가장 큰 이유는 무엇입니까? | E14: 직무 특성상 대면 근무가 필수적임 / 관리자의 근태 관리 및 성과 측정의 어려움 / 동료들의 업무 부담 가중 우려 및 눈치 보는 문화 / 전산 시스템 등 인프라 구축 비용 부담 / 관련 법규 및 인사 규정 개정의 복잡함 / 기타
A15: 노무 | B15: Y/N | C15: 장시간 근로개선 제도 현황 | D15: 우리 기관에서 장시간 근로 개선을 위해 운영 중인 제도를 모두 선택해 주십시오(중복 선택) | E15: 해당하는 항목 모두 체크 (예/아니오) | F15: ↓ 아래 항목 체크
D16: ↳ 보상 휴가제 | E16: 예 / 아니오
D17: ↳ 1시간 단위 연차 | E17: 예 / 아니오
D18: ↳ PC-Off 운영(업무시간 외 PC 사용 차단) | E18: 예 / 아니오
D19: ↳ 휴가 사용 장려(휴가/외출 등 자유로운 문화) | E19: 예 / 아니오
D20: ↳ 연장근로 승인제 | E20: 예 / 아니오
D21: ↳ 집중 근무제 | E21: 예 / 아니오
D22: ↳ 운영 중인 제도 없음 | E22: 예 / 아니오
A23: 노무 | B23: 선택 | C23: 장시간 근로개선 제도 활용도 | D23: 위에서 선택한 제도들이 실제 조직 내에서 얼마나 활발히 사용되고 있습니까? | E23: 제도는 있으나 거의 사용되지 않음 / 일부 부서나 특정 인원만 제한적으로 사용함 / 본인이 원할 때 큰 제약 없이 신청할 수 있음 / 부서원 상당수가 정기적으로 활용하고 있음 / 조직 전반에 완전히 안착하여 자유롭게 활용 중임
A24: 노무 | B24: 선택 | C24: 장시간 근로개선 제도 애로사항 | D24: 장시간 근로개선 제도 도입이나 활성화가 어려운 가장 큰 이유는 무엇입니까? | E24: 인력 부족 및 업무 과부하/ 직무의 대면, 실시간성 / 비효율적 행정 프로세스 / 상사 및 동료의 눈치 / 평가에 대한 우려 / 퇴근 후 연결성(On-call) 문화 / 시스템 및 인프라 부재 / 제도 운영의 형평성 문제 / 기타
A25: 노무 | B25: Y/N | C25: 해외인재 채용계획 | D25: 해외인재(외국인) 전문인력을 고용하고 있거나 향후 채용계획이 있습니까? | E25: 예, 아니오
A26: 노무 | B26: 선택 | C26: 해외인재(외국인) 규모 | D26: (Yes 응답시) 현재 재직 중인 해외인재(외국인) 전문 인력은 총 몇 명입니까? | E26: 1명, 2명, 3명, 4명, 5명 이상
A27: 다양성 추진 | B27: 작성 | C27: 여성 임원 비율 | D27: 귀 기관의 여성 임원 비율은 전체 임원 대비 어느 수준입니까? * 전체 임원 수와 여성 임원 수를 각각 입력하면 비율이 자동 계산됩니다. | E27: 전체 임원 수 (F열) / 여성 임원 수 (G열) 입력시 H열에 자동계산됨 | H27: =IFERROR(IF(F27>0, TEXT(G27/F27,"0.0%")&" ("&G27&"/"&F27&"명)","자동계산"), "자동계산") -> 자동계산
A28: 다양성 추진 | B28: 작성 | C28: 여성 관리자 비율 | D28: 귀 기관의 여성 관리자(팀장급 이상) 비율은 전체 관리자 대비 어느 수준입니까? * 전체 관리자 수와 여성 관리자 수를 각각 입력하면 비율이 자동 계산됩니다. | E28: 전체 관리자 수 (F열) / 여성 관리자 수 (G열) 입력시 H열에 자동계산됨 | H28: =IFERROR(IF(F28>0, TEXT(G28/F28,"0.0%")&" ("&G28&"/"&F28&"명)","자동계산"), "자동계산") -> 자동계산
A29: 다양성 추진 | B29: Y/N | C29: 위원회 성별규정 보유 | D29: 기관 내 주요 위원회 구성 시, 특정 성별이 일정 비율(60% 또는 70%)을 초과하지 않도록 하는 규정이 있습니까? | E29: 예, 아니오
A30: 다양성 추진 | B30: Y/N | C30: 규정적용 위원회 범위 | D30: 특정 성별이 60%(또는 70%)를 초과하지 않도록 하는 규정이 실제 적용되는 주요 위원회에는 어떤 것이 있습니까? | E30: 해당하는 항목 모두 체크 (예/아니오) | F30: ↓ 아래 항목 체크
D31: ↳ 인사위원회 | E31: 예 / 아니오
D32: ↳ 노사협의회 | E32: 예 / 아니오
D33: ↳ 고충처리위원회 | E33: 예 / 아니오
D34: ↳ 징계위원회 | E34: 예 / 아니오
D35: 연구심의위원회 | E35: 예 / 아니오
A36: 다양성 추진 | B36: Y/N | C36: 특정성별 위원 공백 위원회 | D36: 주요 위원회(채용, 인사, 주요 연구심의위원회 등) 중 특정 성별 위원이 단 한 명도 없는 위원회가 있습니까? | E36: 예, 아니오
A37: 다양성 추진 | B37: 선택 | C37: 채용면접 위원의 다양성 | D37: 채용면접 위원 구성 시 외부 위원 및 성별 다양성을 어떻게 확보하고 있습니까? | E37: 면접 위원 구성에 대한 규정 보유 및 운영(예: 외부위원 1/2 이상 및 여성위원 1명 이상 필수 참여 중) / 권장 사항이나 필수 준수는 아님 / 특별한 성별/외부인 비율 기준 없음
A38: 인재육성 | B38: 선택 | C38: 주요 핵심부서 관리자의 성별 대표성 | D38: 기획, 예산, 인사 등 기관의 핵심전략 부서 중 특정 성별 관리자의 비중이 70% 이상입니까? | E38: 70% 이상임 / 균형 상태임(50:50) / 데이터 없음
A39: 인재육성 | B39: 선택 | C39: 연구책임자/프로젝트 리더의 성별 대표성 | D39: 연구책임자/R&D프로젝트 리더 중 특정 성별의 비중이 70% 이상입니까? | E39: 70% 이상임 / 균형 상태임(50:50) / 데이터 없음
A40: 인재육성 | B40: Y/N | C40: 교육/훈련 프로그램 다양성 | D40: 우리 기관에서 운영하고 있는 교육/훈련 프로그램을 모두 선택해 주십시오(중복 선택) | E40: 해당하는 항목 모두 체크 (예/아니오) | F40: ↓ 아래 항목 체크
D41: ↳ 리더십 교육(보직자, 여성, 직원급) | E41: 예 / 아니오
D42: ↳ 평정자 대상 근무성적평정 교육 | E42: 예 / 아니오
D43: ↳ 승진 대상자 교육 | E43: 예 / 아니오
D44: ↳ 여성인재 특화 교육(여성 관리자 리더십 교육 등) | E44: 예 / 아니오
D45: ↳ 경력개발(CDP) 교육 - 과학기술분야 | E45: 예 / 아니오
D46: ↳ 여성 네트워크 운영 | E46: 예 / 아니오
D47: ↳ 기타 | E47: 예 / 아니오
A48: 인사제도 | B48: 선택 | C48: 육아휴직 복귀자 승진율 | D48: 귀 기관의 최근 3년 내 육아휴직 복귀자와 휴직 미사용자(동일 직급/연차) 간의 승진 속도는 어떠한 수준입니까? | E48: 격차없음 / 근소한 차이(휴직기간 만큼 승진이 늦어지나, 복귀 후 차별 없음) / 유의미한 격차 / 최근 3년 내 복귀자가 승진한 사례 없음 / 데이터 관리하고 있지 않음
A49: 인사제도 | B49: 선택 | C49: 육아휴직 산입 및 평가지침 | D49: 육아휴직 기간을 승진 소요 최저연수에 전 기간 산입하고 있으며, 복직 후 첫 평가 시 관행적인 낮은 등급 부여를 금지하는 지침이 있습니까? | E49: 규정 보유 / 규정 미비(개선 필요) / 지침없음(관행적 불이익 존재)
A50: 인사제도 | B50: 선택 | C50: 육아휴직 복귀 후 성과평가 산정방식 | D50: 귀 기관의 육아휴직 복귀자 대상 '복귀 후 첫 성과평가' 산정 방식은 다음 중 어디에 해당합니까? | E50: 제도적 보장(휴직전 직전 등급 또는 평균 이상 등급 보장 등을 규정에 명시), 실적기반 평가(휴직기간 상관없이 근무기간 성과만을 기준으로 평가), 관행적 평균형(근무기간 부족으로 평균 이하 등급 부여), 최저 등급 부여
A51: 임신출산육아기 지원 | B51: Y/N | C51: 복직 지원 | D51: 육아휴직 복귀자를 위해 운영 중인 복직 적응 프로그램이 있습니까? | E51: 해당하는 항목 모두 체크 (예/아니오) | F51: ↓ 아래 항목 체크
D52: ↳ 복직 전 사전 면담(희망 보직 상담 등) | E52: 예 / 아니오
D53: ↳ 직무 교육(업무 업데이트) | E53: 예 / 아니오
D54: ↳ 복직자 간담회 | E54: 예 / 아니오
D55: ↳ 복직자 케어 멘토링 | E55: 예 / 아니오
D56: ↳ 해당 사항 없음 | E56: 예 / 아니오
A57: 임신출산육아기 지원 | B57: 작성 | C57: 육아휴직 등 제도 활용 | D57: 최근 3년 내 육아휴직 대상자 중 '실제 사용자'는 어느 정도입니까? * 연도별 여성/남성 인원을 입력하면 사용 비율이 자동 계산됩니다. | E57: 연도별 입력 (아래 행 참조) | F57: 여성 (명) | G57: 남성 (명) | H57: 사용률 (여성/남성 비율)
D58: ↳ 2025년 | E58: 2025년도 | H58: =IFERROR(IF(OR(F58>0,G58>0),"여성: "&IFERROR(TEXT(F58/(F58+G58),"0.0%"),"-")&" / 남성: "&IFERROR(TEXT(G58/(F58+G58),"0.0%"),"-")&" (계 "&(F58+G58)&"명)","자동계산"),"자동계산") -> 자동계산
A59: 임신출산육아기 지원 | B59: Y/N | C59: 모성보호 제도 활용 | D59: 육아휴직 외에 가족돌봄휴가/휴직, 육아기 근로시간 단축 등 유연한 모성보호 제도를 병행하여 사용할 수 있습니까? | E59: 예, 아니오
A60: 임신출산육아기 지원 | B60: 선택 | C60: 남성 육아 참여 | D60: 남성 직원이 출산 시 별도의 눈치를 보지 않고 휴직할 수 있는 '남성 자동 육아휴직 제도', 임산부 배우자의 건강검진에 동행가능한 '배우자 건강검진 동반휴가' 등 남성 직원의 육아 참여율을 제고하기 위한 제도를 도입중입니까? | E60: 도입 완료, 도입 검토 중 , 도입 의사 없음
A61: 임신출산육아기 지원 | B61: 선택 | C61: 대체인력 채용 | D61: 휴직자 발생 시 업무 공백을 메우기 위한 대체인력 채용 및 업무 재배치 가이드라인이 작동되고 있습니까? | E61: 작동, 일부 작동(시차 발생), 작동하지 않음, 가이드라인 없음
A62: 조직문화 | B62: 선택 | C62: 포용적 연구문화 교육시행 | D62: 최근 1년 내 관리자 또는 전 직원을 대상으로 포용적 연구문화 관련 교육*을 실시한 적이 있습니까? * 유연근무 활용법, 관리자 리더십, 일생활균형 우수사례 공유, 연구실 내 차별/인권교육 등 관련 제도 및 정책 안내 등 | E62: 실시 완료, 실시한 적 없으나 추후 실시할 계획, 실시 의향 없음
A63: 조직문화 | B63: 선택 | C63: 익명 건의채널 | D63: 조직 내 일·생활 균형 방해 요소나 제도 개선 건의를 자유롭고 안전하게(익명성 보장 등) 제기할 수 있는 공식 채널이 있습니까? | E63: 활성화된 전담 채널 있음, 노사협의회 등에서 간헐적 논의, 소통 창구는 있으나 이용률 저조, 없음
A64: 조직문화 | B64: 선택 | C64: 일하는 방식 그라운드룰 | D64: 퇴근 후 연락 자제, 회의 1시간 내 종료, 집중 근무 시간 운영 등 '우리만의 일하는 규칙(Ground Rules)'이 명문화되어 공유되고 있습니까? | E64: 전사 공유 및 실천 중, 규칙은 있으나 형식적임, 명문화 되어 공유된 사항 없음

Sheet 2.계산시트
A1: 진단영역 | B1: 진단영역 | C1: 응답방식 | D1: 점수형태 | E1: 컨설팅 주제코드 | F1: 하위 영역 | G1: 점수/텍스트
A2: 노무 | B2: 노무 | C2: Y/N | D2: 정량 | E2: T1 | F2: 일·생활균형 제도 점검 및 개선 | G2: =IF('1.진단지'!F2="예", 100, 0) -> 0
A3: 노무 | B3: 노무 | C3: Y/N | D3: 정량 | E3: T1 | F3: 유연근무제 현황 | G3: =IF('1.진단지'!F12="예",0,IFERROR(COUNTIF('1.진단지'!F4:F11,"예")/8*100,0)) -> 0
A4: 노무 | B4: 노무 | C4: 선택 | D4: 정량 | E4: T1 | F4: 유연근무제 활용도 | G4: =IFERROR((MATCH('1.진단지'!F13,{"제도는 있으나 거의 사용되지 않음","일부 부서나 특정 인원만 제한적으로 사용함","본인이 원할 때 큰 제약 없이 신청할 수 있음","부서원 상당수가 정기적으로 활용하고 있음","조직 전반에 완전히 안착하여 자유롭게 활용 중임"},0)-1)*25, 0) -> 0
A5: 노무 | B5: 노무 | C5: 선택 | D5: 정량 | E5: T1 | F5: 유연근무 장애요인 | G5: =IF('1.진단지'!F14<>"",0,100) -> 100
A6: 노무 | B6: 노무 | C6: Y/N | D6: 정량 | E6: T1 | F6: 장시간 근로개선 제도 현황 | G6: =IF('1.진단지'!F22="예",0,IFERROR(COUNTIF('1.진단지'!F16:F21,"예")/6*100,0)) -> 0
A7: 노무 | B7: 노무 | C7: 선택 | D7: 정량 | E7: T1 | F7: 장시간 근로개선 제도 활용도 | G7: =IFERROR((MATCH('1.진단지'!F23,{"제도는 있으나 거의 사용되지 않음","일부 부서나 특정 인원만 제한적으로 사용함","본인이 원할 때 큰 제약 없이 신청할 수 있음","부서원 상당수가 정기적으로 활용하고 있음","조직 전반에 완전히 안착하여 자유롭게 활용 중임"},0)-1)*25, 0) -> 0
A8: 노무 | B8: 노무 | C8: 선택 | D8: 정량 | E8: T1 | F8: 장시간 근로개선 제도 애로사항 | G8: =IF('1.진단지'!F24<>"", 0, 100) -> 100
A9: 노무_해외 | B9: 노무 | C9: Y/N | D9: 정량 | E9: T2 | F9: 해외인재/외국인 채용계획 | G9: =IF('1.진단지'!F25="예", 100, 0) -> 0
A10: 노무_해외 | B10: 노무 | C10: 선택 | D10: 정량 | E10: T2 | F10: 해외인재/외국인 규모 | G10: =IF('1.진단지'!F26<>"", 100, 0) -> 0
A11: 노무 | B11: 다양성 추진 | C11: 작성 | D11: 정성 | E11: T4 | F11: 여성 임원 비율 (전체 임원수 - 여성 임원수 - 여성 임원비율 순) | G11: ='1.진단지'!F27 -> 0 | H11: ='1.진단지'!G27 -> 0 | I11: ='1.진단지'!H27 -> 자동계산
A12: 노무 | B12: 다양성 추진 | C12: 작성 | D12: 정성 | E12: T4 | F12: 여성 관리자 비율 (전체 관리자수 - 여성 관리자수 - 여성 관리자비율 순) | G12: ='1.진단지'!F28 -> 0 | H12: ='1.진단지'!G28 -> 0 | I12: ='1.진단지'!H28 -> 자동계산
A13: 노무 | B13: 다양성 추진 | C13: Y/N | D13: 정량 | E13: T3 | F13: 위원회 성별규정 보유 | G13: =IF('1.진단지'!F29="예", 100, 0) -> 0
A14: 노무 | B14: 다양성 추진 | C14: Y/N | D14: 정량 | E14: T3 | F14: 규정적용 위원회 범위 | G14: =IFERROR(COUNTIF('1.진단지'!F31:F35,"예")/5*100,0) -> 0
A15: 다양성 추진 | B15: 다양성 추진 | C15: Y/N | D15: 정량 | E15: T3 | F15: 특정성별 위원 공백 위원회 | G15: =IF('1.진단지'!F36="예", 100, 0) -> 0
A16: 다양성 추진 | B16: 다양성 추진 | C16: 선택 | D16: 정량 | E16: T3 | F16: 채용면접 위원의 다양성 | G16: =IFERROR((MATCH('1.진단지'!F37,{"특별한 성별/외부인 비율 기준 없음","본인이 원할 때 큰 제약 없이 신청할 수 있음","권장 사항이나 필수 준수는 아님","면접 위원 구성에 대한 규정 보유 및 운영(예: 외부위원 1/2 이상 및 여성위원 1명 이상 필수 참여 중)"},0)-1)*33.33, 0) -> 0
A17: 다양성 추진 | B17: 인재육성 | C17: 선택 | D17: 정량 | E17: T4 | F17: 주요 핵심부서 관리자의 성별 대표성 | G17: =IFERROR((MATCH('1.진단지'!F38,{"데이터 없음","균형 상태임(50:50)","70% 이상임)"},0)-1)*33.33, 0) -> 0
A18: 다양성 추진 | B18: 인재육성 | C18: 선택 | D18: 정량 | E18: T4 | F18: 연구책임자/프로젝트 리더의 성별 대표성 | G18: =IFERROR((MATCH('1.진단지'!F39,{"데이터 없음","균형 상태임(50:50)","70% 이상임)"},0)-1)*33.33, 0) -> 0
A19: 다양성 추진 | B19: 인재육성 | C19: Y/N | D19: 정량 | E19: T4 | F19: 교육/훈련 프로그램 다양성 | G19: =IFERROR(COUNTIF('1.진단지'!F41:F47,"예")/7*100,0) -> 0
A20: 다양성 추진 | B20: 인사제도 | C20: 선택 | D20: 정량 | E20: T5 | F20: 육아휴직 복귀자 승진율 | G20: =IFERROR((MATCH('1.진단지'!F48,{"최근 3년 내 복귀자가 승진한 사례 없음","유의미한 격차","근소한 차이(휴직기간 만큼 승진이 늦어지나, 복귀 후 차별 없음)","격차없음"},0)-1)*25, 0) -> 0
A21: 다양성 추진 | B21: 인사제도 | C21: 선택 | D21: 정량 | E21: T5 | F21: 육아휴직 산입 및 평가지침 | G21: =IFERROR((MATCH('1.진단지'!F49,{"지침없음(관행적 불이익 존재)","규정 미비(개선 필요)","규정 보유"},0)-1)*50, 0) -> 0
A22: 다양성 추진 | B22: 인사제도 | C22: 선택 | D22: 정량 | E22: T5 | F22: 육아휴직 복귀 후 성과평가 산정방식 | G22: =IFERROR((MATCH('1.진단지'!F50,{"제도적보장(휴직전 직전 등급 또는 평균 이상 등급 보장 등을 규정에 명시)","관행적 평균형(근무기간 부족으로 평균 이하 등급 부여)","실적기반 평가(휴직기간 상관없이 근무기간 성과만을 기준으로 평가)","제도적 보장(휴직전 직전 등급 또는 평균 이상 등급 보장 등을 규정에 명시)"},0)-1)*25, 0) -> 0
A23: 인재육성 | B23: 임신출산육아기 지원 | C23: Y/N | D23: 정량 | E23: T7 | F23: 복직 지원 | G23: =IF('1.진단지'!F56="예",0,IFERROR(COUNTIF('1.진단지'!F52:F55,"예")/4*100,0)) -> 0
A24: 인재육성 | B24: 임신출산육아기 지원 | C24: 작성 | D24: 정성 | E24: T7 | F24: 육아휴직 등 제도 활용 (연도-여성-남성-여성/남성 비율 순) | G24: ='1.진단지'!E58 -> 2025년도 | H24: ='1.진단지'!F58 -> 0 | I24: ='1.진단지'!G58 -> 0 | J24: ='1.진단지'!H58 -> 자동계산
A25: 인재육성 | B25: 임신출산육아기 지원 | C25: Y/N | D25: 정량 | E25: T7 | F25: 모성보호 제도 활용 | G25: =IF('1.진단지'!F59<>"", 100, 0) -> 0
A26: 인재육성 | B26: 임신출산육아기 지원 | C26: 선택 | D26: 정량 | E26: T6 | F26: 남성 육아 참여 | G26: =IFERROR((MATCH('1.진단지'!F60,{"도입 의사 없음","도입 검토 중","도입 완료"},0)-1)*33.33, 0) -> 0
A27: 인사제도 | B27: 임신출산육아기 지원 | C27: 선택 | D27: 정량 | E27: T7 | F27: 대체인력 채용 | G27: =IFERROR((MATCH('1.진단지'!F61,{"가이드라인 없음","작동하지 않음","일부 작동(시차 발생)","작동"},0)-1)*25, 0) -> 0
A28: 인사제도 | B28: 조직문화 | C28: 선택 | D28: 정량 | E28: T8 | F28: 포용적 연구문화 교육시행 | G28: =IFERROR((MATCH('1.진단지'!F62,{"실시 의향 없음","실시한 적 없으나 추후 실시할 계획","실시 완료"},0)-1)*33.33, 0) -> 0
A29: 인사제도 | B29: 조직문화 | C29: 선택 | D29: 정량 | E29: T8 | F29: 익명 건의채널 | G29: =IFERROR((MATCH('1.진단지'!F63,{"없음","소통 창구는 있으나 이용률 저조","노사협의회 등에서 간헐적 논의","활성화된 전담 채널 있음"},0)-1)*25, 0) -> 0
A30: 인사제도 | B30: 조직문화 | C30: 선택 | D30: 정량 | E30: T8 | F30: 일하는 방식 그라운드룰 | G30: =IFERROR((MATCH('1.진단지'!F64,{"명문화 되어 공유된 사항 없음","규칙은 있으나 형식적임","전사 공유 및 실천 중"},0)-1)*33.33, 0) -> 0
F50: =IFERROR((MATCH('1.진단지'!F50,{"제도적 보장(휴직전 직전 등급 또는 평균 이상 등급 보장 등을 규정에 명시)","실적기반 평가(휴직기간 상관없이 근무기간 성과만을 기준으로 평가)","관행적 평균형(근무기간 부족으로 평균 이하 등급 부여)","최저 등급 부여"},0)-1)*25, 0) -> 0

Sheet 3.진단결과_대시보드
A1: ■ 영역별 성숙도 점수
A2: 진단 영역 | B2: 점수 /100 | C2: 성숙도 등급 | D2: 연계 컨설팅 주제
A3: 노무 | B3: =IFERROR(AVERAGEIFS('2.계산시트'!G:G,'2.계산시트'!B:B,"노무",'2.계산시트'!D:D,"정량"),0) -> 22.222222 | C3: =IF(B3>=70,"성숙 ✅",IF(B3>=50,"성장 ⚠️","초기 🔴")) -> 초기 🔴 | D3: T1, T2
A4: 다양성 추진 | B4: =IFERROR(AVERAGEIFS('2.계산시트'!G:G,'2.계산시트'!B:B,"다양성 추진",'2.계산시트'!D:D,"정량"),0) -> 0 | C4: =IF(B4>=70,"성숙 ✅",IF(B4>=50,"성장 ⚠️","초기 🔴")) -> 초기 🔴 | D4: T3, T4
A5: 인재육성 | B5: =IFERROR(AVERAGEIFS('2.계산시트'!G:G,'2.계산시트'!B:B,"인재육성",'2.계산시트'!D:D,"정량"),0) -> 0 | C5: =IF(B5>=70,"성숙 ✅",IF(B5>=50,"성장 ⚠️","초기 🔴")) -> 초기 🔴 | D5: T4
A6: 인사제도 | B6: =IFERROR(AVERAGEIFS('2.계산시트'!G:G,'2.계산시트'!B:B,"인사제도",'2.계산시트'!D:D,"정량"),0) -> 0 | C6: =IF(B6>=70,"성숙 ✅",IF(B6>=50,"성장 ⚠️","초기 🔴")) -> 초기 🔴 | D6: T5
A7: 임신출산육아기 지원 | B7: =IFERROR(AVERAGEIFS('2.계산시트'!G:G,'2.계산시트'!B:B,"임신출산육아기 지원",'2.계산시트'!D:D,"정량"),0) -> 0 | C7: =IF(B7>=70,"성숙 ✅",IF(B7>=50,"성장 ⚠️","초기 🔴")) -> 초기 🔴 | D7: T6, T7
A8: 조직문화 | B8: =IFERROR(AVERAGEIFS('2.계산시트'!G:G,'2.계산시트'!B:B,"조직문화",'2.계산시트'!D:D,"정량"),0) -> 0 | C8: =IF(B8>=70,"성숙 ✅",IF(B8>=50,"성장 ⚠️","초기 🔴")) -> 초기 🔴 | D8: T8
A9: 종합 평균 | B9: =IFERROR(AVERAGE(B3,B4,B5,B6,B7,B8),0) -> 3.7037037 | C9: =IF(B9>=70,"성숙 ✅",IF(B9>=50,"성장 ⚠️","초기 🔴")) -> 초기 🔴 | D9: 0~39: 태동 | 40~69: 성장 | 70~100: 성숙
A11: ■ 컨설팅 주제별 우선순위 분석
A12: No. | B12: 세부 점수 | C12: 우선순위 | D12: 컨설팅 가능 주제 | E12: 핵심 진단 포인트
A13: T1 | B13: =IFERROR(AVERAGEIFS('2.계산시트'!G:G,'2.계산시트'!E:E,"T1",'2.계산시트'!D:D,"정량"),0) -> 28.571429 | C13: =IF(B13>=70,"유지·보완 ✅",IF(B13>=50,"개선 권장 ⚠️","즉시 개선 필요 🔴")) -> 즉시 개선 필요 🔴 | D13: ▶일·생활균형 제도 점검 및 규정 정비·활성화 등 ▶유연근무제 확대 도입 ▶유형별 유연근무제 기관 내 정착을 위한 가이드라인 구축 ▶연구직 맞춤형 유연근무제 설계 등 | E13: 유연근무제·장시간근로 제도 도입 수, 실제 활용도, 법령 개정 반영 여부
A14: T2 | B14: =IFERROR(AVERAGEIFS('2.계산시트'!G:G,'2.계산시트'!E:E,"T2",'2.계산시트'!D:D,"정량"),0) -> 0 | C14: 본 진단지 결과로 진단하지 않음 | D14: ▶해외인재 법무·복무 리스크 체계 구축 ▶해외인재 온보딩(적응) 전략 ▶해외인재 경력개발 전략 ▶해외인재 성과평가 체계 등 | E14: 비자 관리 프로세스, 외국어 근로계약서, 4대보험·복무 규정 준수 여부
A15: T3 | B15: =IFERROR(AVERAGEIFS('2.계산시트'!G:G,'2.계산시트'!E:E,"T3",'2.계산시트'!D:D,"정량"),0) -> 0 | C15: =IF(B15>=70,"유지·보완 ✅",IF(B15>=50,"개선 권장 ⚠️","즉시 개선 필요 🔴")) -> 즉시 개선 필요 🔴 | D15: ▶채용면접 위원 다양성 확보 전략 ▶주요 의사결정 위원회 내 성별 균형 가이드라인 수립 ▶주요 연구과제/프로젝트 심의시 무의식적 편견 제거를 위한 가이드라인, 체크리스트 마련 등 | E15: 위원회 성별 규정 보유·적용 범위, 면접위원 성별 다양성, 차별방지 교육
A16: T4 | B16: =IFERROR(AVERAGEIFS('2.계산시트'!G:G,'2.계산시트'!E:E,"T4",'2.계산시트'!D:D,"정량"),0) -> 0 | C16: =IF(B16>=70,"유지·보완 ✅",IF(B16>=50,"개선 권장 ⚠️","즉시 개선 필요 🔴")) -> 즉시 개선 필요 🔴 | D16: ▶다양성을 고려한 관리자 육성체계 마련(리더십, 역량강화 방안) ▶직원 커리어 패스 내 형평성 제고 전략 등 | E16: 여성 임원·관리자 비율, 교육 전담부서, 리더십·CDP 프로그램 다양성
A17: T5 | B17: =IFERROR(AVERAGEIFS('2.계산시트'!G:G,'2.계산시트'!E:E,"T5",'2.계산시트'!D:D,"정량"),0) -> 0 | C17: =IF(B17>=70,"유지·보완 ✅",IF(B17>=50,"개선 권장 ⚠️","즉시 개선 필요 🔴")) -> 즉시 개선 필요 🔴 | D17: ▶임신·출산·육아기 성과평가 및 승진 공정성 개선 등 | E17: 육아휴직 복귀자 승진율, 휴직 기간 산입, 평가 체계 공정성 지침
A18: T6 | B18: =IFERROR(AVERAGEIFS('2.계산시트'!G:G,'2.계산시트'!E:E,"T6",'2.계산시트'!D:D,"정량"),0) -> 0 | C18: =IF(B18>=70,"유지·보완 ✅",IF(B18>=50,"개선 권장 ⚠️","즉시 개선 필요 🔴")) -> 즉시 개선 필요 🔴 | D18: ▶부성권 보장형 남성 자동 육아휴직 제도화 등 ▶육아기 남성 직원대상 모성보호제도 활성화 프로그램 설계 등 | E18: 남성 자동 육아휴직 또는 배우자 출산휴가 의무화 시행 여부
A19: T7 | B19: =IFERROR(AVERAGEIFS('2.계산시트'!G:G,'2.계산시트'!E:E,"T7",'2.계산시트'!D:D,"정량"),0) -> 0 | C19: =IF(B19>=70,"유지·보완 ✅",IF(B19>=50,"개선 권장 ⚠️","즉시 개선 필요 🔴")) -> 즉시 개선 필요 🔴 | D19: ▶육아휴직 복귀자 복귀지원 프로그램 설계 ▶육아휴직 업무대체 인센티브 프로그램 설계 ▶직장 어린이집 운영 방안 개선 ▶임신·출산·육아기 비정규직 연구원·비전임 교원 관련 규정정비, 지원전략 마련 등 | E19: 복직 적응 프로그램 구성, 육아휴직 실사용률, 모성보호 제도 활용 분위기
A20: T8 | B20: =IFERROR(AVERAGEIFS('2.계산시트'!G:G,'2.계산시트'!E:E,"T8",'2.계산시트'!D:D,"정량"),0) -> 0 | C20: =IF(B20>=70,"유지·보완 ✅",IF(B20>=50,"개선 권장 ⚠️","즉시 개선 필요 🔴")) -> 즉시 개선 필요 🔴 | D20: ▶포용적 연구문화/조직문화 혁신 캠페인 ▶연구문화/조직문화 정밀진단 방안 마련 ▶누구나 의견을 말할 수 있는 소통체계 구축 등 | E20: 리더 솔선수범, 관리자 인식, 교육 실시, 건의 채널, 그라운드룰 명문화
A22: ■ [참고] 점수 및 성숙도 등급 설명
A23: 점수 구간 | B23: 성숙도 등급 | C23: 컨설팅 우선순위 | D23: 대응 방향 | E23: 비고
A24: 70점 이상 | B24: 성숙 ✅ | C24: 유지·보완 | D24: 현 수준 지속 유지, 우수사례화 가능 | E24: 벤치마킹·우수사례 확산
A25: 50점 이상 | B25: 성장 ⚠ | C25: 개선 권장 | D25: 핵심 제도·문화 개선 및 구체적 실행계획 수립 | E25: 단기~중기 과제
A26: ~70점미만
A27: 40점 미만 | B27: 초기 🔴 | C27: 즉시 개선 필요 | D27: 법적 리스크 점검 및 기초 제도 설계 우선 착수 | E27: 단기 필수 과제
A28: 해당없음 | B28: ─ | C28: 해당없음 | D28: 문항 자체가 기관 특성상 해당 없음 | E28: T2 코드 자동 제외
D29: (예:외국인인력없는기관의해외인재문항)
