Workbook
Name __: #REF!
Name ___: #REF!
Name ____: #REF!
Name _____: #REF!
Name ______: #REF!
Name _______: #REF!
Name ___________________SUM10: #REF!
Name ___________________SUM11: #REF!
Name ___________________SUM12: #REF!
Name ___________________SUM13: #REF!
Name ___________________SUM14: #REF!
Name ___________________SUM15: #REF!
Name ___________________SUM16: #REF!
Name ___________________SUM17: #REF!
Name ___________________SUM18: #REF!
Name ___________________SUM19: #REF!
Name ___________________SUM2: #REF!
Name ___________________SUM3: #REF!
Name ___________________SUM4: #REF!
Name ___________________SUM5: #REF!
Name ___________________SUM6: #REF!
Name ___________________SUM7: #REF!
Name ___________________SUM8: #REF!
Name ___________________SUM9: #REF!
Name __________________SUM1: #REF!
Name __________________SUM10: #REF!
Name __________________SUM11: #REF!
Name __________________SUM12: #REF!
Name __________________SUM13: #REF!
Name __________________SUM14: #REF!
Name __________________SUM15: #REF!
Name __________________SUM16: #REF!
Name __________________SUM17: #REF!
Name __________________SUM18: #REF!
Name __________________SUM19: #REF!
Name __________________SUM2: #REF!
Name __________________SUM3: #REF!
Name __________________SUM4: #REF!
Name __________________SUM5: #REF!
Name __________________SUM6: #REF!
Name __________________SUM7: #REF!
Name __________________SUM8: #REF!
Name __________________SUM9: #REF!
Name _________________SUM1: #REF!
Name _________________SUM10: #REF!
Name _________________SUM11: #REF!
Name _________________SUM12: #REF!
Name _________________SUM13: #REF!
Name _________________SUM14: #REF!
Name _________________SUM15: #REF!
Name _________________SUM16: #REF!
Name _________________SUM17: #REF!
Name _________________SUM18: #REF!
Name _________________SUM19: #REF!
Name _________________SUM2: #REF!
Name _________________SUM3: #REF!
Name _________________SUM4: #REF!
Name _________________SUM5: #REF!
Name _________________SUM6: #REF!
Name _________________SUM7: #REF!

Sheet 원가계산서
A2: 원가계산서
A4: 사업명 : | B4: 수도권 R&D 평가 사무실 재구축 | G4: 단위 : 원
A5: 비목 구분 | C5: 금액 | D5: 구성비(%) | E5: 비고
A7: ① 재료비 | B7: 직 접 재 료 비 | E7: (집계표)
B8: 간 접 재 료 비
B9: 작업설,부산물(-)
B10: 소 계
A11: ② 노무비 | B11: 직 접 노 무 비 | E11: (집계표)
B12: 간접노무비 | E12: (직접노무비)× | F12: 0.15
B13: 소 계
A14: ③ 경 비 | B14: 산출경비 | E14: (집계표)
B15: 산 재 보 험 료 | E15: (노무비)× | F15: 0.0356
B16: 고 용 보 험 료 | E16: (노무비)× | F16: 0.0101
B17: 산업안전보건관리비 | E17: (재료비+노무비)× | F17: 0.0311
B18: 기 타 경 비 | E18: (재료비+노무비)× | F18: 0.046
B19: 소 계
A20: ④ | B20: 순원가 | E20: (재료비+노무비+경비)
A21: ⑤ | B21: 일반관리비 | E21: (순원가)× | F21: 0.06 | G21: 6% 이하
A22: ⑥ | B22: 이윤 | E22: (노무비+경비+일반관리비)× | F22: 0.15 | G22: 15% 이하
A23: ⑦ | B23: 가구 | E23: (집계표)
A24: ⑧ | B24: 폐기물처리비 | E24: (집계표)
A25: ⑨ | B25: 공급가액 | E25: ④+⑤+⑥+⑦+⑧
A26: ⑩ | B26: 부가가치세 | E26: (공급가액)× | F26: 0.1
A27: ⑪ | B27: 총원가 | E27: ⑨+⑩, 천원미만 절사

Sheet 내역 집계표
A2: =CONCATENATE(D2,E2) | B2: 내역 집계표
A4: =CONCATENATE(D4,E4) | B4: 사업명 : | C4: 수도권 R&D 평가 사무실 재구축 | P4: 단위 : 원
A5: =CONCATENATE(D5,E5) -> 품명규격 | B5: 항 | C5: 세항 | D5: 품명 | E5: 규격 | F5: 단위 | G5: 수량 | H5: 재 료 비 | J5: 노 무 비 | L5: 경 비 | N5: 합 계 | P5: 비고
A6: =CONCATENATE(D6,E6) | H6: 단가 | I6: 금액 | J6: 단가 | K6: 금액 | L6: 단가 | M6: 금액 | N6: 단가 | O6: 금액
B7: =내역서!B7 -> 1 | D7: =내역서!D7 -> 가설공사 | F7: 식 | G7: 1
B8: =내역서!B20 -> 2 | D8: =내역서!D20 -> 철거공사 | F8: 식 | G8: 1
B9: =내역서!B29 -> 3 | D9: =내역서!D29 -> 인테리어공사 | F9: 식 | G9: 1
B10: =내역서!B61 -> 4 | D10: =내역서!D61 -> 3층추가공사 | F10: 식 | G10: 1
D12: 계
A13: =CONCATENATE(D13,E13)
B15: =내역서!B72 -> * | D15: =내역서!D72 -> 가구공사 | F15: 식 | G15: 1
B16: =내역서!B82 -> ** | D16: =내역서!D82 -> 페기물 처리비 | E16: =내역서!E82 -> 매립대상 | F16: 식 | G16: 1

Sheet 내역서
A2: =CONCATENATE(D2,E2) | B2: 내역서
P4: 단위 : 원
B5: 항 | C5: 세항 | D5: 품명 | E5: 규격 | F5: 단위 | G5: 수량 | H5: 재료비 | J5: 노무비 | L5: 경비 | N5: 합계 | P5: 비고
H6: 단가 | I6: 금액 | J6: 단가 | K6: 금액 | L6: 단가 | M6: 금액 | N6: 단가 | O6: 금액
B7: =수량산출표!B6 -> 1 | D7: =수량산출표!D6 -> 가설공사
A8: =CONCATENATE(D8,E8) -> 먹메김구조부 | B8: =수량산출표!B7 -> 0 | D8: =수량산출표!D7 -> 먹메김 | E8: =수량산출표!E7 -> 구조부 | F8: =수량산출표!G7 -> ㎡ | G8: =수량산출표!J7 -> 469.27
A9: =CONCATENATE(D9,E9) -> 보양골판지 | B9: =수량산출표!B10 -> 0 | D9: =수량산출표!D10 -> 보양 | E9: =수량산출표!E10 -> 골판지 | F9: =수량산출표!G10 -> ㎡ | G9: =수량산출표!J10 -> 469.27
A10: =CONCATENATE(D10,E10) -> 강관조립말비계(이동식)높이2M, 3개월 | B10: =수량산출표!B11 -> 0 | D10: =수량산출표!D11 -> 강관조립말비계(이동식) | E10: =수량산출표!E11 -> 높이2M, 3개월 | F10: =수량산출표!G11 -> 대 | G10: =수량산출표!J11 -> 3
A11: =CONCATENATE(D11,E11) -> 현장정리공사중 옥, 내외 청소 | B11: =수량산출표!B12 -> 0 | D11: =수량산출표!D12 -> 현장정리 | E11: =수량산출표!E12 -> 공사중 옥, 내외 청소 | F11: =수량산출표!G12 -> ㎡ | G11: =수량산출표!J12 -> 469.27
A12: =CONCATENATE(D12,E12) -> 준공청소청소 및 뒷정리 | B12: =수량산출표!B13 -> 0 | D12: =수량산출표!D13 -> 준공청소 | E12: =수량산출표!E13 -> 청소 및 뒷정리 | F12: =수량산출표!G13 -> ㎡ | G12: =수량산출표!J13 -> 469.27
A13: =CONCATENATE(D13,E13) -> 바닥왁싱바닥광택 | B13: =수량산출표!B14 -> 0 | D13: =수량산출표!D14 -> 바닥왁싱 | E13: =수량산출표!E14 -> 바닥광택 | F13: =수량산출표!G14 -> ㎡ | G13: =수량산출표!J14 -> 469.27
A14: =CONCATENATE(D14,E14) -> 마감 실리콘 | B14: =수량산출표!B15 -> 0 | D14: =수량산출표!D15 -> 마감 실리콘 | F14: =수량산출표!G15 -> 식 | G14: =수량산출표!J15 -> 1
A15: =CONCATENATE(D15,E15) -> 집진기 사용료 | B15: =수량산출표!B16 -> 0 | D15: =수량산출표!D16 -> 집진기 사용료 | F15: =수량산출표!G16 -> 식 | G15: =수량산출표!J16 -> 1
A16: =CONCATENATE(D16,E16) | B16: =수량산출표!B17 -> 0
D17: 계 | I17: =SUM(I8:I15) -> 0 | K17: =SUM(K8:K15) -> 0 | M17: =SUM(M8:M15) -> 0 | O17: =SUM(O8:O15) -> 0
A20: =CONCATENATE(D20,E20) -> 철거공사 | B20: =수량산출표!B18 -> 2 | D20: =수량산출표!D18 -> 철거공사
A21: =CONCATENATE(D21,E21) -> 유리파티션/유리도어 철거0 | B21: =수량산출표!B19 -> 0 | D21: =수량산출표!D19 -> 유리파티션/유리도어 철거 | E21: =수량산출표!E19 -> 0 | F21: =수량산출표!G19 -> ㎡ | G21: =수량산출표!J19 -> 70.85
A22: =CONCATENATE(D22,E22) -> 벽체철거0 | B22: =수량산출표!B20 -> 0 | D22: =수량산출표!D20 -> 벽체철거 | E22: =수량산출표!E20 -> 0 | F22: =수량산출표!G20 -> ㎡ | G22: =수량산출표!J20 -> 101.79
A23: =CONCATENATE(D23,E23) -> 천장텍스 철거0 | B23: =수량산출표!B21 -> 0 | D23: =수량산출표!D21 -> 천장텍스 철거 | E23: =수량산출표!E21 -> 0 | F23: =수량산출표!G21 -> 식 | G23: =수량산출표!J21 -> 1
A24: =CONCATENATE(D24,E24) -> 탕비실 가구철거 | B24: =수량산출표!B22 -> 0 | D24: =수량산출표!D22 -> 탕비실 가구철거 | F24: =수량산출표!G22 -> 식 | G24: =수량산출표!J22 -> 1
A25: =CONCATENATE(D25,E25) | B25: =수량산출표!B23 -> 0
D26: 계 | I26: =SUM(I21:I25) -> 0 | K26: =SUM(K21:K25) -> 0 | M26: =SUM(M21:M25) -> 0 | O26: =SUM(O21:O25) -> 0
A29: =CONCATENATE(D29,E29) -> 인테리어공사 | B29: =수량산출표!B24 -> 3 | D29: =수량산출표!D24 -> 인테리어공사
A30: =CONCATENATE(D30,E30) -> 바닥 | B30: =수량산출표!B25 -> 0 | C30: * | D30: =수량산출표!D25 -> 바닥
A31: =CONCATENATE(D31,E31) -> 바닥재 보수PVC계 | B31: =수량산출표!B26 -> 0 | D31: =수량산출표!D26 -> 바닥재 보수 | E31: =수량산출표!E26 -> PVC계 | F31: =수량산출표!G26 -> ㎡ | G31: =수량산출표!J26 -> 18.55
A32: =CONCATENATE(D32,E32) -> PVC타일T=3.0, 데코 | B32: =수량산출표!B27 -> 0 | D32: =수량산출표!D27 -> PVC타일 | E32: =수량산출표!E27 -> T=3.0, 데코 | F32: =수량산출표!G27 -> ㎡ | G32: =수량산출표!J27 -> 5.28
A33: =CONCATENATE(D33,E33) -> 재료분리대STS, T=5.0 | B33: =수량산출표!B28 -> 0 | D33: =수량산출표!D28 -> 재료분리대 | E33: =수량산출표!E28 -> STS, T=5.0 | F33: =수량산출표!G28 -> m | G33: =수량산출표!J28 -> 11.1
A34: =CONCATENATE(D34,E34) -> 벽 | B34: =수량산출표!B29 -> 0 | C34: * | D34: =수량산출표!D29 -> 벽
A35: =CONCATENATE(D35,E35) -> M-STUD(경량벽체철골틀)75*45*0.8 | B35: =수량산출표!B30 -> 0 | D35: =수량산출표!D30 -> M-STUD(경량벽체철골틀) | E35: =수량산출표!E30 -> 75*45*0.8 | F35: =수량산출표!G30 -> ㎡ | G35: =수량산출표!J30 -> 99.99
A36: =CONCATENATE(D36,E36) -> M-STUD(경량벽체철골틀)65*45*0.8 | B36: =수량산출표!B31 -> 0 | D36: =수량산출표!D31 -> M-STUD(경량벽체철골틀) | E36: =수량산출표!E31 -> 65*45*0.8 | F36: =수량산출표!G31 -> ㎡ | G36: =수량산출표!J31 -> 21.54
A37: =CONCATENATE(D37,E37) -> 석고판붙임벽, T=9.5*3PLY | B37: =수량산출표!B32 -> 0 | D37: =수량산출표!D32 -> 석고판붙임 | E37: =수량산출표!E32 -> 벽, T=9.5*3PLY | F37: =수량산출표!G32 -> ㎡ | G37: =수량산출표!J32 -> 99.99
A38: =CONCATENATE(D38,E38) -> 그라스울벽, T=50*24K | B38: =수량산출표!B33 -> 0 | D38: =수량산출표!D33 -> 그라스울 | E38: =수량산출표!E33 -> 벽, T=50*24K | F38: =수량산출표!G33 -> ㎡ | G38: =수량산출표!J33 -> 99.99
A39: =CONCATENATE(D39,E39) -> 금속 유리 후레임ST'L 30*50 | B39: =수량산출표!B34 -> 0 | D39: =수량산출표!D34 -> 금속 유리 후레임 | E39: =수량산출표!E34 -> ST'L 30*50 | F39: =수량산출표!G34 -> m | G39: =수량산출표!J34 -> 46.5
A40: =CONCATENATE(D40,E40) -> 금속 유리 후레임 쉬트인테리어필림 | B40: =수량산출표!B35 -> 0 | D40: =수량산출표!D35 -> 금속 유리 후레임 쉬트 | E40: =수량산출표!E35 -> 인테리어필림 | F40: =수량산출표!G35 -> m | G40: =수량산출표!J35 -> 46.5
A41: =CONCATENATE(D41,E41) -> 강화유리T=10 | B41: =수량산출표!B36 -> 0 | D41: =수량산출표!D36 -> 강화유리 | E41: =수량산출표!E36 -> T=10 | F41: =수량산출표!G36 -> ㎡ | G41: =수량산출표!J36 -> 24.4
A42: =CONCATENATE(D42,E42) -> 강화도어900*2300 | B42: =수량산출표!B37 -> 0 | D42: =수량산출표!D37 -> 강화도어 | E42: =수량산출표!E37 -> 900*2300 | F42: =수량산출표!G37 -> set | G42: =수량산출표!J37 -> 3
A43: =CONCATENATE(D43,E43) -> 강화도어 손잡이S'STL | B43: =수량산출표!B38 -> 0 | D43: =수량산출표!D38 -> 강화도어 손잡이 | E43: =수량산출표!E38 -> S'STL | F43: =수량산출표!G38 -> 개 | G43: =수량산출표!J38 -> 3
A44: =CONCATENATE(D44,E44) -> 강화도어/후레임900*2300 | B44: =수량산출표!B39 -> 0 | D44: =수량산출표!D39 -> 강화도어/후레임 | E44: =수량산출표!E39 -> 900*2300 | F44: =수량산출표!G39 -> set | G44: =수량산출표!J39 -> 3
A45: =CONCATENATE(D45,E45) -> 목재출입문920*2080, 문틀포함설치도 | B45: =수량산출표!B40 -> 0 | D45: =수량산출표!D40 -> 목재출입문 | E45: =수량산출표!E40 -> 920*2080, 문틀포함설치도 | F45: =수량산출표!G40 -> set | G45: =수량산출표!J40 -> 2
A46: =CONCATENATE(D46,E46) -> 안개쉬트1800*2200 | B46: =수량산출표!B41 -> 0 | D46: =수량산출표!D41 -> 안개쉬트 | E46: =수량산출표!E41 -> 1800*2200 | F46: =수량산출표!G41 -> ㎡ | G46: =수량산출표!J41 -> 23.34
A47: =CONCATENATE(D47,E47) -> 쉬트판넬T=9.0, 인테리어쉬트 | B47: =수량산출표!B42 -> 0 | D47: =수량산출표!D42 -> 쉬트판넬 | E47: =수량산출표!E42 -> T=9.0, 인테리어쉬트 | F47: =수량산출표!G42 -> ㎡ | G47: =수량산출표!J42 -> 190.11
A48: =CONCATENATE(D48,E48) -> 걸레받이T=9.0*75 | B48: =수량산출표!B44 -> 0 | D48: =수량산출표!D44 -> 걸레받이 | E48: =수량산출표!E44 -> T=9.0*75 | F48: =수량산출표!G44 -> m | G48: =수량산출표!J44 -> 69.27
A49: =CONCATENATE(D49,E49) -> 벽체 도배합판, 석고면 | B49: =수량산출표!B46 -> 0 | D49: =수량산출표!D46 -> 벽체 도배 | E49: =수량산출표!E46 -> 합판, 석고면 | F49: =수량산출표!G46 -> ㎡ | G49: =수량산출표!J46 -> 147.97
A50: =CONCATENATE(D50,E50) -> 석고보드면 바탕만들기올퍼티 | B50: =수량산출표!B47 -> 0 | D50: =수량산출표!D47 -> 석고보드면 바탕만들기 | E50: =수량산출표!E47 -> 올퍼티 | F50: =수량산출표!G47 -> ㎡ | G50: =수량산출표!J47 -> 139.54
A51: =CONCATENATE(D51,E51) -> 수성페인트롤러칠, 2회 | B51: =수량산출표!B48 -> 0 | D51: =수량산출표!D48 -> 수성페인트 | E51: =수량산출표!E48 -> 롤러칠, 2회 | F51: =수량산출표!G48 -> ㎡ | G51: =수량산출표!J48 -> 139.54
A52: =CONCATENATE(D52,E52) -> 천장 | B52: =수량산출표!B49 -> 0 | C52: * | D52: =수량산출표!D49 -> 천장
A53: =CONCATENATE(D53,E53) -> LGSM-BAR, 설치도 | B53: =수량산출표!B50 -> 0 | D53: =수량산출표!D50 -> LGS | E53: =수량산출표!E50 -> M-BAR, 설치도 | F53: =수량산출표!G50 -> ㎡ | G53: =수량산출표!J50 -> 52.8
A54: =CONCATENATE(D54,E54) -> 석고판붙임천장, T=9.5 | B54: =수량산출표!B51 -> 0 | D54: =수량산출표!D51 -> 석고판붙임 | E54: =수량산출표!E51 -> 천장, T=9.5 | F54: =수량산출표!G51 -> ㎡ | G54: =수량산출표!J51 -> 52.8
A55: =CONCATENATE(D55,E55) -> 쉬트판넬T=9.0, 인테리어쉬트 | B55: =수량산출표!B52 -> 0 | D55: =수량산출표!D52 -> 쉬트판넬 | E55: =수량산출표!E52 -> T=9.0, 인테리어쉬트 | F55: =수량산출표!G52 -> ㎡ | G55: =수량산출표!J52 -> 52.8
A56: =CONCATENATE(D56,E56) -> 천장 보수M-BAR+텍스 | B56: =수량산출표!B53 -> 0 | D56: =수량산출표!D53 -> 천장 보수 | E56: =수량산출표!E53 -> M-BAR+텍스 | F56: =수량산출표!G53 -> ㎡ | G56: =수량산출표!J53 -> 10
A57: =CONCATENATE(D57,E57) | B57: =수량산출표!B54 -> 0
D58: 계 | I58: =SUM(I31:I56) -> 0 | K58: =SUM(K31:K56) -> 0 | M58: =SUM(M31:M56) -> 0 | O58: =SUM(O31:O56) -> 0
A61: =CONCATENATE(D61,E61) -> 3층추가공사 | B61: =수량산출표!B55 -> 4 | D61: =수량산출표!D55 -> 3층추가공사
A62: =CONCATENATE(D62,E62) -> M-STUD(경량벽체철골틀)75*45*0.8 | B62: =수량산출표!B56 -> 0 | D62: =수량산출표!D56 -> M-STUD(경량벽체철골틀) | E62: =수량산출표!E56 -> 75*45*0.8 | F62: =수량산출표!G56 -> ㎡ | G62: =수량산출표!J56 -> 12.46
A63: =CONCATENATE(D63,E63) -> 석고판붙임벽, T=9.5*3PLY | B63: =수량산출표!B57 -> 0 | D63: =수량산출표!D57 -> 석고판붙임 | E63: =수량산출표!E57 -> 벽, T=9.5*3PLY | F63: =수량산출표!G57 -> ㎡ | G63: =수량산출표!J57 -> 22.66
A64: =CONCATENATE(D64,E64) -> 그라스울벽, T=50*24K | B64: =수량산출표!B58 -> 0 | D64: =수량산출표!D58 -> 그라스울 | E64: =수량산출표!E58 -> 벽, T=50*24K | F64: =수량산출표!G58 -> ㎡ | G64: =수량산출표!J58 -> 12.46
A65: =CONCATENATE(D65,E65) -> 걸레받이T=9.0*75 | B65: =수량산출표!B59 -> 0 | D65: =수량산출표!D59 -> 걸레받이 | E65: =수량산출표!E59 -> T=9.0*75 | F65: =수량산출표!G59 -> m | G65: =수량산출표!J59 -> 10
A66: =CONCATENATE(D66,E66) -> 도어후레임900*2300, 문틀포함설치도 | B66: =수량산출표!B60 -> 0 | D66: =수량산출표!D60 -> 도어후레임 | E66: =수량산출표!E60 -> 900*2300, 문틀포함설치도 | F66: =수량산출표!G60 -> set | G66: =수량산출표!J60 -> 1
A67: =CONCATENATE(D67,E67) -> 벽체 도배합판, 석고면 | B67: =수량산출표!B61 -> 0 | D67: =수량산출표!D61 -> 벽체 도배 | E67: =수량산출표!E61 -> 합판, 석고면 | F67: =수량산출표!G61 -> ㎡ | G67: =수량산출표!J61 -> 22.66
A68: =CONCATENATE(D68,E68) | B68: =수량산출표!B62 -> 0
D69: 계 | I69: =SUM(I62:I67) -> 0 | K69: =SUM(K62:K67) -> 0 | M69: =SUM(M62:M67) -> 0 | O69: =SUM(O62:O67) -> 0
A72: =CONCATENATE(D72,E72) -> 가구공사 | B72: =수량산출표!B63 -> * | D72: =수량산출표!D63 -> 가구공사
A73: =CONCATENATE(D73,E73) -> 스마트허브 3인용 책상 | B73: =수량산출표!B64 -> 0 | D73: =수량산출표!D64 -> 스마트허브 3인용 책상 | F73: =수량산출표!G64 -> set | G73: =수량산출표!J64 -> 7
A74: =CONCATENATE(D74,E74) -> 탕비실 상,하부장4200*2400, 인조석+싱크포함 | B74: =수량산출표!B65 -> 0 | D74: =수량산출표!D65 -> 탕비실 상,하부장 | E74: =수량산출표!E65 -> 4200*2400, 인조석+싱크포함 | F74: =수량산출표!G65 -> set | G74: =수량산출표!J65 -> 1
A75: =CONCATENATE(D75,E75) -> 탕비실 정수기장600*450*1800 | B75: =수량산출표!B66 -> 0 | D75: =수량산출표!D66 -> 탕비실 정수기장 | E75: =수량산출표!E66 -> 600*450*1800 | F75: =수량산출표!G66 -> 개 | G75: =수량산출표!J66 -> 1
A76: =CONCATENATE(D76,E76) -> O.A 하부장1800*650*1000 | B76: =수량산출표!B67 -> 0 | D76: =수량산출표!D67 -> O.A 하부장 | E76: =수량산출표!E67 -> 1800*650*1000 | F76: =수량산출표!G67 -> 개 | G76: =수량산출표!J67 -> 3
D77: 일반관리비 | E77: 6% | F77: 식 | G77: 0.06
D79: 계 | I79: =SUM(I73:I77) -> 0 | K79: =SUM(K73:K77) -> 0 | M79: =SUM(M73:M77) -> 0 | O79: =SUM(O73:O77) -> 0
A82: =CONCATENATE(D82,E82) -> 페기물 처리비매립대상 | B82: =수량산출표!B68 -> ** | D82: =수량산출표!D68 -> 페기물 처리비 | E82: =수량산출표!E68 -> 매립대상 | F82: =수량산출표!G68 -> 톤 | G82: =수량산출표!J68 -> 4
D83: 일반관리비 | E83: 6% | F83: 식 | G83: 0.06
A84: =CONCATENATE(D84,E84)
D85: 계 | I85: =SUM(I82:I83) -> 0 | K85: =SUM(K82:K83) -> 0 | M85: =SUM(M82:M83) -> 0 | O85: =SUM(O82:O83) -> 0

Sheet 수량산출표
B2: 수량산출표
A3: =CONCATENATE(#REF!,E3) -> #REF!
A4: =CONCATENATE(D4,E4) -> 품명규격 | B4: 항 | C4: 세항 | D4: 품명 | E4: 규격 | F4: 산출근거 | G4: 단위 | H4: 정미량 | I4: 손율 | J4: 소요량 | K4: 비고
A5: =CONCATENATE(D5,E5)
B6: 1 | D6: 가설공사
B7: 0 | C7: 0 | D7: 먹메김 | E7: 구조부 | F7: (원장실)26.87+(회의실-3)28.05(커뮤니티복도)45.61+(회의실-2)20.55+(접견실)14.39+ | G7: ㎡ | H7: =26.87+28.05+45.61+20.55+14.39+14.5+48.3+64.7+5.95+182.63+13.78+3.94 -> 469.27 | J7: =ROUND(H7,2) -> 469.27
F8: (창고-1)14.50+(캔틴라운지)48.30+(회의실)64.7+(서버실)5.95+(오피스)182.63+
F9: (본부장실)13.78+(창고-2)3.94
D10: 보양 | E10: 골판지 | G10: ㎡ | H10: =H7 -> 469.27 | J10: =ROUND(H10,2) -> 469.27
D11: 강관조립말비계(이동식) | E11: 높이2M, 3개월 | F11: 3*1 | G11: 대 | H11: 3 | J11: =ROUND(H11,2) -> 3
B12: 0 | C12: 0 | D12: 현장정리 | E12: 공사중 옥, 내외 청소 | G12: ㎡ | H12: =H7 -> 469.27 | J12: =ROUND(H12,2) -> 469.27
B13: 0 | C13: 0 | D13: 준공청소 | E13: 청소 및 뒷정리 | G13: ㎡ | H13: =H7 -> 469.27 | J13: =ROUND(H13,2) -> 469.27
B14: 0 | C14: 0 | D14: 바닥왁싱 | E14: 바닥광택 | G14: ㎡ | H14: =H7 -> 469.27 | J14: =ROUND(H14,2) -> 469.27
B15: 0 | C15: 0 | D15: 마감 실리콘 | G15: 식 | H15: 1 | J15: =ROUND(H15,2) -> 1
B16: 0 | C16: 0 | D16: 집진기 사용료 | G16: 식 | H16: 1 | J16: =ROUND(H16,2) -> 1
B18: 2 | D18: 철거공사
D19: 유리파티션/유리도어 철거 | F19: (5.45+9+3.35+2.5+2.45+2.5+2)*2.6 | G19: ㎡ | H19: =(5.45+9+3.35+2.5+2.45+2.5+2)*2.6 -> 70.85 | J19: =ROUND(H19,2) -> 70.85
D20: 벽체철거 | F20: (1.4+1.4+1.6+1.9+9.2+4.45+10+9.2)*2.6 | G20: ㎡ | H20: =(1.4+1.4+1.6+1.9+9.2+4.45+10+9.2)*2.6 -> 101.79 | J20: =ROUND(H20,2) -> 101.79
D21: 천장텍스 철거 | G21: 식 | H21: 1 | J21: =ROUND(H21,2) -> 1
D22: 탕비실 가구철거 | G22: 식 | H22: 1 | J22: =ROUND(H22,2) -> 1
B24: 3 | D24: 인테리어공사
C25: 3-1 | D25: 바닥
D26: 바닥재 보수 | E26: PVC계 | F26: 18.55 (실측) | G26: ㎡ | H26: 18.55 | J26: =ROUND(H26,2) -> 18.55
D27: PVC타일 | E27: T=3.0, 데코 | F27: 4.8*1.1 | G27: ㎡ | H27: =4.8*1.1 -> 5.28 | J27: =ROUND(H27,2) -> 5.28
D28: 재료분리대 | E28: STS, T=5.0 | F28: 0.9*6+1.2+1.5+3 | G28: m | H28: =0.9*6+1.2+1.5+3 -> 11.1 | J28: =ROUND(H28,2) -> 11.1
C29: 3-2 | D29: 벽
D30: M-STUD(경량벽체철골틀) | E30: 75*45*0.8 | F30: 2.36*(1.42+1.33+1.4+2.13*2+0.75+20.95+0.5*9+0.8+0.65*2+1.64+4.15-0.13) | G30: ㎡ | H30: =2.36*(1.42+1.33+1.4+2.13*2+0.75+20.95+0.5*9+0.8+0.65*2+1.64+4.15-0.13) -> 99.9932 | J30: =ROUND(H30,2) -> 99.99
D31: M-STUD(경량벽체철골틀) | E31: 65*45*0.8 | F31: ((2.43*2.36-1.23*1.16)*5) | G31: ㎡ | H31: =((2.43*2.36-1.23*1.16)*5) -> 21.54 | J31: =ROUND(H31,2) -> 21.54
D32: 석고판붙임 | E32: 벽, T=9.5*3PLY | F32: 2.36*(1.42+1.33+1.4+2.13*2+0.75+20.95+0.5*9+0.8+0.65*2+1.64+4.15-0.13) | G32: ㎡ | H32: =2.36*(1.42+1.33+1.4+2.13*2+0.75+20.95+0.5*9+0.8+0.65*2+1.64+4.15-0.13) -> 99.9932 | J32: =ROUND(H32,2) -> 99.99
D33: 그라스울 | E33: 벽, T=50*24K | F33: 2.36*(1.42+1.33+1.4+2.13*2+0.75+20.95+0.5*9+0.8+0.65*2+1.64+4.15-0.13) | G33: ㎡ | H33: =2.36*(1.42+1.33+1.4+2.13*2+0.75+20.95+0.5*9+0.8+0.65*2+1.64+4.15-0.13) -> 99.9932 | J33: =ROUND(H33,2) -> 99.99
D34: 금속 유리 후레임 | E34: ST'L 30*50 | F34: 3.3+3.3+2.6+2.6+4.4+3.8+4.4+3.8+2.6+2.6+2.6+(0.9+2.6)*3 | G34: m | H34: =3.3+3.3+2.6+2.6+4.4+3.8+4.4+3.8+2.6+2.6+2.6+(0.9+2.6)*3 -> 46.5 | J34: =ROUND(H34,2) -> 46.5
D35: 금속 유리 후레임 쉬트 | E35: 인테리어필림 | F35: 3.3+3.3+2.6+2.6+4.4+3.8+4.4+3.8+2.6+2.6+2.6+(0.9+2.6)*3 | G35: m | H35: =3.3+3.3+2.6+2.6+4.4+3.8+4.4+3.8+2.6+2.6+2.6+(0.9+2.6)*3 -> 46.5 | J35: =ROUND(H35,2) -> 46.5
D36: 강화유리 | E36: T=10 | F36: 2.36*(2.7+3.3+1.16)+1*(3.3+2.1+2.1) | G36: ㎡ | H36: =2.36*(2.7+3.3+1.16)+1*(3.3+2.1+2.1) -> 24.3976 | J36: =ROUND(H36,2) -> 24.4
D37: 강화도어 | E37: 900*2300 | F37: 3*1 | G37: set | H37: 3 | J37: =ROUND(H37,2) -> 3
D38: 강화도어 손잡이 | E38: S'STL | F38: 3*1 | G38: 개 | H38: 3 | J38: =ROUND(H38,2) -> 3
D39: 강화도어/후레임 | E39: 900*2300 | F39: 3*1 | G39: set | H39: 3 | J39: =ROUND(H39,2) -> 3
D40: 목재출입문 | E40: 920*2080, 문틀포함설치도 | F40: 2*1 | G40: set | H40: 2 | J40: =ROUND(H40,2) -> 2
D41: 안개쉬트 | E41: 1800*2200 | F41: 3.3*2.6+(4.4+3.8)*1.8 | G41: ㎡ | H41: =3.3*2.6+(4.4+3.8)*1.8 -> 23.34 | J41: =ROUND(H41,2) -> 23.34
D42: 쉬트판넬 | E42: T=9.0, 인테리어쉬트 | F42: (3.7+3.55+3.55+6.5+6.5+4+4+4.5+0.6+0.6+0.6+0.6+0.37+0.7+0.7+7.3+ | G42: ㎡ | H42: =(3.7+3.55+3.55+6.5+6.5+4+4+4.5+0.6+0.6+0.6+0.6+0.37+0.7+0.7+7.3+7.3+7.35+0.7+0.7+4.2+4.2+0.9)*2.6 -> 190.112 | J42: =ROUND(H42,2) -> 190.11
F43: 7.3+7.35+0.7+0.7+4.2+4.2+0.9)*2.6
D44: 걸레받이 | E44: T=9.0*75 | F44: (3.7+3.55+3.55+6.5+6.5+4+4+4.5+0.6+0.6+0.6+0.6+0.37+0.7+0.7+7.3+7.3+ | G44: m | H44: =(3.7+3.55+3.55+6.5+6.5+4+4+4.5+0.6+0.6+0.6+0.6+0.37+0.7+0.7+7.3+7.3+0.7+0.7+4.2+0.9+5.9+0.9+0.9) -> 69.27 | J44: =ROUND(H44,2) -> 69.27
F45: 0.7+0.7+4.2+0.9+5.9+0.9+0.9)
D46: 벽체 도배 | E46: 합판, 석고면 | F46: 2.36*(4.4+4.6+2.6+2.6+3.1+3.15+13.4+16+8.3+3.15+0.6+0.6+0.2) | G46: ㎡ | H46: =2.36*(4.4+4.6+2.6+2.6+3.1+3.15+13.4+16+8.3+3.15+0.6+0.6+0.2) -> 147.972 | J46: =ROUND(H46,2) -> 147.97
D47: 석고보드면 바탕만들기 | E47: 올퍼티 | F47: 2.36*(9.36+6+10.4+10.5+10+5.5+3.06*3)-(1.23*1.16*3) | G47: ㎡ | H47: =2.36*(9.36+6+10.4+10.5+10+5.5+3.06*3)-(1.23*1.16*3) -> 139.538 | J47: =ROUND(H47,2) -> 139.54
D48: 수성페인트 | E48: 롤러칠, 2회 | F48: 2.36*(9.36+6+10.4+10.5+10+5.5+3.06*3)-(1.23*1.16*3) | G48: ㎡ | H48: =2.36*(9.36+6+10.4+10.5+10+5.5+3.06*3)-(1.23*1.16*3) -> 139.538 | J48: =ROUND(H48,2) -> 139.54
C49: 3-3 | D49: 천장
D50: LGS | E50: M-BAR, 설치도 | F50: 52.8 | G50: ㎡ | H50: 52.8 | J50: =ROUND(H50,2) -> 52.8
D51: 석고판붙임 | E51: 천장, T=9.5 | F51: 52.8 | G51: ㎡ | H51: 52.8 | J51: =ROUND(H51,2) -> 52.8
D52: 쉬트판넬 | E52: T=9.0, 인테리어쉬트 | F52: 52.8 | G52: ㎡ | H52: 52.8 | J52: =ROUND(H52,2) -> 52.8
D53: 천장 보수 | E53: M-BAR+텍스 | F53: 10(실측) | G53: ㎡ | H53: 10 | J53: =ROUND(H53,2) -> 10
B55: 4 | D55: 3층추가공사
D56: M-STUD(경량벽체철골틀) | E56: 75*45*0.8 | F56: (4.8+0.48)*2.36 | G56: ㎡ | H56: =(4.8+0.48)*2.36 -> 12.4608 | J56: =ROUND(H56,2) -> 12.46
D57: 석고판붙임 | E57: 벽, T=9.5*3PLY | F57: 4.8*2*2.36 | G57: ㎡ | H57: =4.8*2*2.36 -> 22.656 | J57: =ROUND(H57,2) -> 22.66
D58: 그라스울 | E58: 벽, T=50*24K | F58: (4.8+0.48)*2.36 | G58: ㎡ | H58: =(4.8+0.48)*2.36 -> 12.4608 | J58: =ROUND(H58,2) -> 12.46
D59: 걸레받이 | E59: T=9.0*75 | F59: 10*1 | G59: m | H59: =10*1 -> 10 | J59: =ROUND(H59,2) -> 10
D60: 도어후레임 | E60: 900*2300, 문틀포함설치도 | F60: 1*1 | G60: set | H60: =1*1 -> 1 | J60: =ROUND(H60,2) -> 1
D61: 벽체 도배 | E61: 합판, 석고면 | F61: 4.8*2*2.36 | G61: ㎡ | H61: =4.8*2*2.36 -> 22.656 | J61: =ROUND(H61,2) -> 22.66
B63: * | D63: 가구공사
D64: 스마트허브 3인용 책상 | F64: 7 | G64: set | H64: 7 | J64: =ROUND(H64,2) -> 7 | K64: OF-08
D65: 탕비실 상,하부장 | E65: 4200*2400, 인조석+싱크포함 | F65: 1 | G65: set | H65: 1 | J65: =ROUND(H65,2) -> 1 | K65: OF-01
D66: 탕비실 정수기장 | E66: 600*450*1800 | F66: 1 | G66: 개 | H66: 1 | J66: =ROUND(H66,2) -> 1 | K66: OF-01
D67: O.A 하부장 | E67: 1800*650*1000 | F67: 3 | G67: 개 | H67: 3 | J67: =ROUND(H67,2) -> 3 | K67: OF-03,07
B68: ** | D68: 페기물 처리비 | E68: 매립대상 | F68: 1*1 | G68: 톤 | H68: =H69 -> 3.1159528 | J68: 4
E69: 품셈 적용기준1-5-4 | F69: 469.27㎡*0.00664톤/㎡ | G69: 톤 | H69: =469.27*0.00664 -> 3.1159528 | J69: =ROUND(H69,2) -> 3.12
