Workbook
Name __: #REF!
Name ___: #REF!
Name ____: #REF!
Name _____: #REF!
Name ______: #REF!
Name _______: #REF!
Name ___________________SUM10: #REF!
Name ___________________SUM11: #REF!
Name ___________________SUM12: #REF!
Name ___________________SUM13: #REF!
Name ___________________SUM14: #REF!
Name ___________________SUM15: #REF!
Name ___________________SUM16: #REF!
Name ___________________SUM17: #REF!
Name ___________________SUM18: #REF!
Name ___________________SUM19: #REF!
Name ___________________SUM2: #REF!
Name ___________________SUM3: #REF!
Name ___________________SUM4: #REF!
Name ___________________SUM5: #REF!
Name ___________________SUM6: #REF!
Name ___________________SUM7: #REF!
Name ___________________SUM8: #REF!
Name ___________________SUM9: #REF!
Name __________________SUM1: #REF!
Name __________________SUM10: #REF!
Name __________________SUM11: #REF!
Name __________________SUM12: #REF!
Name __________________SUM13: #REF!
Name __________________SUM14: #REF!
Name __________________SUM15: #REF!
Name __________________SUM16: #REF!
Name __________________SUM17: #REF!
Name __________________SUM18: #REF!
Name __________________SUM19: #REF!
Name __________________SUM2: #REF!
Name __________________SUM3: #REF!
Name __________________SUM4: #REF!
Name __________________SUM5: #REF!
Name __________________SUM6: #REF!
Name __________________SUM7: #REF!
Name __________________SUM8: #REF!
Name __________________SUM9: #REF!
Name _________________SUM1: #REF!
Name _________________SUM10: #REF!
Name _________________SUM11: #REF!
Name _________________SUM12: #REF!
Name _________________SUM13: #REF!
Name _________________SUM14: #REF!
Name _________________SUM15: #REF!
Name _________________SUM16: #REF!
Name _________________SUM17: #REF!
Name _________________SUM18: #REF!
Name _________________SUM19: #REF!
Name _________________SUM2: #REF!
Name _________________SUM3: #REF!
Name _________________SUM4: #REF!
Name _________________SUM5: #REF!
Name _________________SUM6: #REF!
Name _________________SUM7: #REF!

Sheet 원가계산서
A2: 원가계산서
A4: 사업명 : | B4: 수도권 R&D 평가 사무실 재구축 | G4: 단위 : 원
A5: 비목 구분 | C5: 금액 | D5: 구성비(%) | E5: 비고
A7: ① 재료비 | B7: 직 접 재 료 비 | E7: (집계표)
B8: 간 접 재 료 비
B9: 작업설,부산물(-)
B10: 소 계
A11: ② 노무비 | B11: 직 접 노 무 비 | E11: (집계표)
B12: 간접노무비 | E12: (직접노무비)× | F12: 0.15
B13: 소 계
A14: ③ 경 비 | B14: 산출경비 | E14: (집계표)
B15: 산 재 보 험 료 | E15: (노무비)× | F15: 0.0356
B16: 고 용 보 험 료 | E16: (노무비)× | F16: 0.0101
B17: 산업안전보건관리비 | E17: (재료비+노무비)× | F17: 0.0311
B18: 기 타 경 비 | E18: (재료비+노무비)× | F18: 0.046
B19: 소 계
A20: ④ | B20: 순원가 | E20: (재료비+노무비+경비)
A21: ⑤ | B21: 일반관리비 | E21: (순원가)× | F21: 0.06 | G21: 6% 이하
A22: ⑥ | B22: 이윤 | E22: (노무비+경비+일반관리비)× | F22: 0.15 | G22: 15% 이하
A23: ⑦ | B23: 가구 | E23: (집계표)
A24: ⑧ | B24: 폐기물처리비 | E24: (집계표)
A25: ⑨ | B25: 공급가액 | E25: ④+⑤+⑥+⑦+⑧
A26: ⑩ | B26: 부가가치세 | E26: (공급가액)× | F26: 0.1
A27: ⑪ | B27: 총원가 | E27: ⑨+⑩, 천원미만 절사

Sheet 내역 집계표
A2: =CONCATENATE(D2,E2) | B2: 내역 집계표
A4: =CONCATENATE(D4,E4) | B4: 사업명 : | C4: 수도권 R&D 평가 사무실 재구축 | P4: 단위 : 원
A5: =CONCATENATE(D5,E5) -> 품명규격 | B5: 항 | C5: 세항 | D5: 품명 | E5: 규격 | F5: 단위 | G5: 수량 | H5: 재 료 비 | J5: 노 무 비 | L5: 경 비 | N5: 합 계 | P5: 비고
A6: =CONCATENATE(D6,E6) | H6: 단가 | I6: 금액 | J6: 단가 | K6: 금액 | L6: 단가 | M6: 금액 | N6: 단가 | O6: 금액
B7: =내역서!B7 -> 1 | D7: =내역서!D7 -> 가설공사 | F7: 식 | G7: 1
B8: =내역서!B20 -> 2 | D8: =내역서!D20 -> 철거공사 | F8: 식 | G8: 1
B9: =내역서!B29 -> 3 | D9: =내역서!D29 -> 인테리어공사 | F9: 식 | G9: 1
B10: =내역서!B61 -> 4 | D10: =내역서!D61 -> 3층추가공사 | F10: 식 | G10: 1
D12: 계
A13: =CONCATENATE(D13,E13)
B15: =내역서!B72 -> * | D15: =내역서!D72 -> 가구공사 | F15: 식 | G15: 1
B16: =내역서!B82 -> ** | D16: =내역서!D82 -> 페기물 처리비 | E16: =내역서!E82 -> 매립대상 | F16: 식 | G16: 1

Sheet 내역서
A2: =CONCATENATE(D2,E2) | B2: 내역서
P4: 단위 : 원
B5: 항 | C5: 세항 | D5: 품명 | E5: 규격 | F5: 단위 | G5: 수량 | H5: 재료비 | J5: 노무비 | L5: 경비 | N5: 합계 | P5: 비고
H6: 단가 | I6: 금액 | J6: 단가 | K6: 금액 | L6: 단가 | M6: 금액 | N6: 단가 | O6: 금액
B7: =수량산출표!B6 -> 1 | D7: =수량산출표!D6 -> 가설공사
A8: =CONCATENATE(D8,E8) -> 먹메김구조부 | B8: =수량산출표!B7 -> 0 | D8: =수량산출표!D7 -> 먹메김 | E8: =수량산출표!E7 -> 구조부 | F8: =수량산출표!G7 -> ㎡ | G8: =수량산출표!J7 -> 469.27
A9: =CONCATENATE(D9,E9) -> 보양골판지 | B9: =수량산출표!B10 -> 0 | D9: =수량산출표!D10 -> 보양 | E9: =수량산출표!E10 -> 골판지 | F9: =수량산출표!G10 -> ㎡ | G9: =수량산출표!J10 -> 469.27
A10: =CONCATENATE(D10,E10) -> 강관조립말비계(이동식)높이2M, 3개월 | B10: =수량산출표!B11 -> 0 | D10: =수량산출표!D11 -> 강관조립말비계(이동식) | E10: =수량산출표!E11 -> 높이2M, 3개월 | F10: =수량산출표!G11 -> 대 | G10: =수량산출표!J11 -> 3
A11: =CONCATENATE(D11,E11) -> 현장정리공사중 옥, 내외 청소 | B11: =수량산출표!B12 -> 0 | D11: =수량산출표!D12 -> 현장정리 | E11: =수량산출표!E12 -> 공사중 옥, 내외 청소 | F11: =수량산출표!G12 -> ㎡ | G11: =수량산출표!J12 -> 469.27
A12: =CONCATENATE(D12,E12) -> 준공청소청소 및 뒷정리 | B12: =수량산출표!B13 -> 0 | D12: =수량산출표!D13 -> 준공청소 | E12: =수량산출표!E13 -> 청소 및 뒷정리 | F12: =수량산출표!G13 -> ㎡ | G12: =수량산출표!J13 -> 469.27
A13: =CONCATENATE(D13,E13) -> 바닥왁싱바닥광택 | B13: =수량산출표!B14 -> 0 | D13: =수량산출표!D14 -> 바닥왁싱 | E13: =수량산출표!E14 -> 바닥광택 | F13: =수량산출표!G14 -> ㎡ | G13: =수량산출표!J14 -> 469.27
A14: =CONCATENATE(D14,E14) -> 마감 실리콘 | B14: =수량산출표!B15 -> 0 | D14: =수량산출표!D15 -> 마감 실리콘 | F14: =수량산출표!G15 -> 식 | G14: =수량산출표!J15 -> 1
A15: =CONCATENATE(D15,E15) -> 집진기 사용료 | B15: =수량산출표!B16 -> 0 | D15: =수량산출표!D16 -> 집진기 사용료 | F15: =수량산출표!G16 -> 식 | G15: =수량산출표!J16 -> 1
A16: =CONCATENATE(D16,E16) | B16: =수량산출표!B17 -> 0
D17: 계 | I17: =SUM(I8:I15) -> 0 | K17: =SUM(K8:K15) -> 0 | M17: =SUM(M8:M15) -> 0 | O17: =SUM(O8:O15) -> 0
A20: =CONCATENATE(D20,E20) -> 철거공사 | B20: =수량산출표!B18 -> 2 | D20: =수량산출표!D18 -> 철거공사
A21: =CONCATENATE(D21,E21) -> 유리파티션/유리도어 철거0 | B21: =수량산출표!B19 -> 0 | D21: =수량산출표!D19 -> 유리파티션/유리도어 철거 | E21: =수량산출표!E19 -> 0 | F21: =수량산출표!G19 -> ㎡ | G21: =수량산출표!J19 -> 70.85
A22: =CONCATENATE(D22,E22) -> 벽체철거0 | B22: =수량산출표!B20 -> 0 | D22: =수량산출표!D20 -> 벽체철거 | E22: =수량산출표!E20 -> 0 | F22: =수량산출표!G20 -> ㎡ | G22: =수량산출표!J20 -> 101.79
A23: =CONCATENATE(D23,E23) -> 천장텍스 철거0 | B23: =수량산출표!B21 -> 0 | D23: =수량산출표!D21 -> 천장텍스 철거 | E23: =수량산출표!E21 -> 0 | F23: =수량산출표!G21 -> 식 | G23: =수량산출표!J21 -> 1
A24: =CONCATENATE(D24,E24) -> 탕비실 가구철거 | B24: =수량산출표!B22 -> 0 | D24: =수량산출표!D22 -> 탕비실 가구철거 | F24: =수량산출표!G22 -> 식 | G24: =수량산출표!J22 -> 1
A25: =CONCATENATE(D25,E25) | B25: =수량산출표!B23 -> 0
D26: 계 | I26: =SUM(I21:I25) -> 0 | K26: =SUM(K21:K25) -> 0 | M26: =SUM(M21:M25) -> 0 | O26: =SUM(O21:O25) -> 0
A29: =CONCATENATE(D29,E29) -> 인테리어공사 | B29: =수량산출표!B24 -> 3 | D29: =수량산출표!D24 -> 인테리어공사
A30: =CONCATENATE(D30,E30) -> 바닥 | B30: =수량산출표!B25 -> 0 | C30: * | D30: =수량산출표!D25 -> 바닥
A31: =CONCATENATE(D31,E31) -> 바닥재 보수PVC계 | B31: =수량산출표!B26 -> 0 | D31: =수량산출표!D26 -> 바닥재 보수 | E31: =수량산출표!E26 -> PVC계 | F31: =수량산출표!G26 -> ㎡ | G31: =수량산출표!J26 -> 18.55
A32: =CONCATENATE(D32,E32) -> PVC타일T=3.0, 데코 | B32: =수량산출표!B27 -> 0 | D32: =수량산출표!D27 -> PVC타일 | E32: =수량산출표!E27 -> T=3.0, 데코 | F32: =수량산출표!G27 -> ㎡ | G32: =수량산출표!J27 -> 5.28
A33: =CONCATENATE(D33,E33) -> 재료분리대STS, T=5.0 | B33: =수량산출표!B28 -> 0 | D33: =수량산출표!D28 -> 재료분리대 | E33: =수량산출표!E28 -> STS, T=5.0 | F33: =수량산출표!G28 -> m | G33: =수량산출표!J28 -> 11.1
A34: =CONCATENATE(D34,E34) -> 벽 | B34: =수량산출표!B29 -> 0 | C34: * | D34: =수량산출표!D29 -> 벽
A35: =CONCATENATE(D35,E35) -> M-STUD(경량벽체철골틀)75*45*0.8 | B35: =수량산출표!B30 -> 0 | D35: =수량산출표!D30 -> M-STUD(경량벽체철골틀) | E35: =수량산출표!E30 -> 75*45*0.8 | F35: =수량산출표!G30 -> ㎡ | G35: =수량산출표!J30 -> 99.99
A36: =CONCATENATE(D36,E36) -> M-STUD(경량벽체철골틀)65*45*0.8 | B36: =수량산출표!B31 -> 0 | D36: =수량산출표!D31 -> M-STUD(경량벽체철골틀) | E36: =수량산출표!E31 -> 65*45*0.8 | F36: =수량산출표!G31 -> ㎡ | G36: =수량산출표!J31 -> 21.54
A37: =CONCATENATE(D37,E37) -> 석고판붙임벽, T=9.5*3PLY | B37: =수량산출표!B32 -> 0 | D37: =수량산출표!D32 -> 석고판붙임 | E37: =수량산출표!E32 -> 벽, T=9.5*3PLY | F37: =수량산출표!G32 -> ㎡ | G37: =수량산출표!J32 -> 99.99
A38: =CONCATENATE(D38,E38) -> 그라스울벽, T=50*24K | B38: =수량산출표!B33 -> 0 | D38: =수량산출표!D33 -> 그라스울 | E38: =수량산출표!E33 -> 벽, T=50*24K | F38: =수량산출표!G33 -> ㎡ | G38: =수량산출표!J33 -> 99.99
A39: =CONCATENATE(D39,E39) -> 금속 유리 후레임ST'L 30*50 | B39: =수량산출표!B34 -> 0 | D39: =수량산출표!D34 -> 금속 유리 후레임 | E39: =수량산출표!E34 -> ST'L 30*50 | F39: =수량산출표!G34 -> m | G39: =수량산출표!J34 -> 46.5
A40: =CONCATENATE(D40,E40) -> 금속 유리 후레임 쉬트인테리어필림 | B40: =수량산출표!B35 -> 0 | D40: =수량산출표!D35 -> 금속 유리 후레임 쉬트 | E40: =수량산출표!E35 -> 인테리어필림 | F40: =수량산출표!G35 -> m | G40: =수량산출표!J35 -> 46.5
A41: =CONCATENATE(D41,E41) -> 강화유리T=10 | B41: =수량산출표!B36 -> 0 | D41: =수량산출표!D36 -> 강화유리 | E41: =수량산출표!E36 -> T=10 | F41: =수량산출표!G36 -> ㎡ | G41: =수량산출표!J36 -> 24.4
A42: =CONCATENATE(D42,E42) -> 강화도어900*2300 | B42: =수량산출표!B37 -> 0 | D42: =수량산출표!D37 -> 강화도어 | E42: =수량산출표!E37 -> 900*2300 | F42: =수량산출표!G37 -> set | G42: =수량산출표!J37 -> 3
A43: =CONCATENATE(D43,E43) -> 강화도어 손잡이S'STL | B43: =수량산출표!B38 -> 0 | D43: =수량산출표!D38 -> 강화도어 손잡이 | E43: =수량산출표!E38 -> S'STL | F43: =수량산출표!G38 -> 개 | G43: =수량산출표!J38 -> 3
A44: =CONCATENATE(D44,E44) -> 강화도어/후레임900*2300 | B44: =수량산출표!B39 -> 0 | D44: =수량산출표!D39 -> 강화도어/후레임 | E44: =수량산출표!E39 -> 900*2300 | F44: =수량산출표!G39 -> set | G44: =수량산출표!J39 -> 3
A45: =CONCATENATE(D45,E45) -> 목재출입문920*2080, 문틀포함설치도 | B45: =수량산출표!B40 -> 0 | D45: =수량산출표!D40 -> 목재출입문 | E45: =수량산출표!E40 -> 920*2080, 문틀포함설치도 | F45: =수량산출표!G40 -> set | G45: =수량산출표!J40 -> 2
A46: =CONCATENATE(D46,E46) -> 안개쉬트1800*2200 | B46: =수량산출표!B41 -> 0 | D46: =수량산출표!D41 -> 안개쉬트 | E46: =수량산출표!E41 -> 1800*2200 | F46: =수량산출표!G41 -> ㎡ | G46: =수량산출표!J41 -> 23.34
...

Sheet 수량산출표
B2: 수량산출표
A3: =CONCATENATE(#REF!,E3) -> #REF!
A4: =CONCATENATE(D4,E4) -> 품명규격 | B4: 항 | C4: 세항 | D4: 품명 | E4: 규격 | F4: 산출근거 | G4: 단위 | H4: 정미량 | I4: 손율 | J4: 소요량 | K4: 비고
A5: =CONCATENATE(D5,E5)
B6: 1 | D6: 가설공사
B7: 0 | C7: 0 | D7: 먹메김 | E7: 구조부 | F7: (원장실)26.87+(회의실-3)28.05(커뮤니티복도)45.61+(회의실-2)20.55+(접견실)14.39+ | G7: ㎡ | H7: =26.87+28.05+45.61+20.55+14.39+14.5+48.3+64.7+5.95+182.63+13.78+3.94 -> 469.27 | J7: =ROUND(H7,2) -> 469.27
F8: (창고-1)14.50+(캔틴라운지)48.30+(회의실)64.7+(서버실)5.95+(오피스)182.63+
F9: (본부장실)13.78+(창고-2)3.94
D10: 보양 | E10: 골판지 | G10: ㎡ | H10: =H7 -> 469.27 | J10: =ROUND(H10,2) -> 469.27
D11: 강관조립말비계(이동식) | E11: 높이2M, 3개월 | F11: 3*1 | G11: 대 | H11: 3 | J11: =ROUND(H11,2) -> 3
B12: 0 | C12: 0 | D12: 현장정리 | E12: 공사중 옥, 내외 청소 | G12: ㎡ | H12: =H7 -> 469.27 | J12: =ROUND(H12,2) -> 469.27
B13: 0 | C13: 0 | D13: 준공청소 | E13: 청소 및 뒷정리 | G13: ㎡ | H13: =H7 -> 469.27 | J13: =ROUND(H13,2) -> 469.27
B14: 0 | C14: 0 | D14: 바닥왁싱 | E14: 바닥광택 | G14: ㎡ | H14: =H7 -> 469.27 | J14: =ROUND(H14,2) -> 469.27
B15: 0 | C15: 0 | D15: 마감 실리콘 | G15: 식 | H15: 1 | J15: =ROUND(H15,2) -> 1
B16: 0 | C16: 0 | D16: 집진기 사용료 | G16: 식 | H16: 1 | J16: =ROUND(H16,2) -> 1
B18: 2 | D18: 철거공사
D19: 유리파티션/유리도어 철거 | F19: (5.45+9+3.35+2.5+2.45+2.5+2)*2.6 | G19: ㎡ | H19: =(5.45+9+3.35+2.5+2.45+2.5+2)*2.6 -> 70.85 | J19: =ROUND(H19,2) -> 70.85
D20: 벽체철거 | F20: (1.4+1.4+1.6+1.9+9.2+4.45+10+9.2)*2.6 | G20: ㎡ | H20: =(1.4+1.4+1.6+1.9+9.2+4.45+10+9.2)*2.6 -> 101.79 | J20: =ROUND(H20,2) -> 101.79
D21: 천장텍스 철거 | G21: 식 | H21: 1 | J21: =ROUND(H21,2) -> 1
D22: 탕비실 가구철거 | G22: 식 | H22: 1 | J22: =ROUND(H22,2) -> 1
B24: 3 | D24: 인테리어공사
C25: 3-1 | D25: 바닥
D26: 바닥재 보수 | E26: PVC계 | F26: 18.55 (실측) | G26: ㎡ | H26: 18.55 | J26: =ROUND(H26,2) -> 18.55
D27: PVC타일 | E27: T=3.0, 데코 | F27: 4.8*1.1 | G27: ㎡ | H27: =4.8*1.1 -> 5.28 | J27: =ROUND(H27,2) -> 5.28
D28: 재료분리대 | E28: STS, T=5.0 | F28: 0.9*6+1.2+1.5+3 | G28: m | H28: =0.9*6+1.2+1.5+3 -> 11.1 | J28: =ROUND(H28,2) -> 11.1
C29: 3-2 | D29: 벽
D30: M-STUD(경량벽체철골틀) | E30: 75*45*0.8 | F30: 2.36*(1.42+1.33+1.4+2.13*2+0.75+20.95+0.5*9+0.8+0.65*2+1.64+4.15-0.13) | G30: ㎡ | H30: =2.36*(1.42+1.33+1.4+2.13*2+0.75+20.95+0.5*9+0.8+0.65*2+1.64+4.15-0.13) -> 99.9932 | J30: =ROUND(H30,2) -> 99.99
D31: M-STUD(경량벽체철골틀) | E31: 65*45*0.8 | F31: ((2.43*2.36-1.23*1.16)*5) | G31: ㎡ | H31: =((2.43*2.36-1.23*1.16)*5) -> 21.54 | J31: =ROUND(H31,2) -> 21.54
D32: 석고판붙임 | E32: 벽, T=9.5*3PLY | F32: 2.36*(1.42+1.33+1.4+2.13*2+0.75+20.95+0.5*9+0.8+0.65*2+1.64+4.15-0.13) | G32: ㎡ | H32: =2.36*(1.42+1.33+1.4+2.13*2+0.75+20.95+0.5*9+0.8+0.65*2+1.64+4.15-0.13) -> 99.9932 | J32: =ROUND(H32,2) -> 99.99
D33: 그라스울 | E33: 벽, T=50*24K | F33: 2.36*(1.42+1.33+1.4+2.13*2+0.75+20.95+0.5*9+0.8+0.65*2+1.64+4.15-0.13) | G33: ㎡ | H33: =2.36*(1.42+1.33+1.4+2.13*2+0.75+20.95+0.5*9+0.8+0.65*2+1.64+4.15-0.13) -> 99.9932 | J33: =ROUND(H33,2) -> 99.99
D34: 금속 유리 후레임 | E34: ST'L 30*50 | F34: 3.3+3.3+2.6+2.6+4.4+3.8+4.4+3.8+2.6+2.6+2.6+(0.9+2.6)*3 | G34: m | H34: =3.3+3.3+2.6+2.6+4.4+3.8+4.4+3.8+2.6+2.6+2.6+(0.9+2.6)*3 -> 46.5 | J34: =ROUND(H34,2) -> 46.5
D35: 금속 유리 후레임 쉬트 | E35: 인테리어필림 | F35: 3.3+3.3+2.6+2.6+4.4+3.8+4.4+3.8+2.6+2.6+2.6+(0.9+2.6)*3 | G35: m | H35: =3.3+3.3+2.6+2.6+4.4+3.8+4.4+3.8+2.6+2.6+2.6+(0.9+2.6)*3 -> 46.5 | J35: =ROUND(H35,2) -> 46.5
D36: 강화유리 | E36: T=10 | F36: 2.36*(2.7+3.3+1.16)+1*(3.3+2.1+2.1) | G36: ㎡ | H36: =2.36*(2.7+3.3+1.16)+1*(3.3+2.1+2.1) -> 24.3976 | J36: =ROUND(H36,2) -> 24.4
D37: 강화도어 | E37: 900*2300 | F37: 3*1 | G37: set | H37: 3 | J37: =ROUND(H37,2) -> 3
D38: 강화도어 손잡이 | E38: S'STL | F38: 3*1 | G38: 개 | H38: 3 | J38: =ROUND(H38,2) -> 3
D39: 강화도어/후레임 | E39: 900*2300 | F39: 3*1 | G39: set | H39: 3 | J39: =ROUND(H39,2) -> 3
D40: 목재출입문 | E40: 920*2080, 문틀포함설치도 | F40: 2*1 | G40: set | H40: 2 | J40: =ROUND(H40,2) -> 2
D41: 안개쉬트 | E41: 1800*2200 | F41: 3.3*2.6+(4.4+3.8)*1.8 | G41: ㎡ | H41: =3.3*2.6+(4.4+3.8)*1.8 -> 23.34 | J41: =ROUND(H41,2) -> 23.34
D42: 쉬트판넬 | E42: T=9.0, 인테리어쉬트 | F42: (3.7+3.55+3.55+6.5+6.5+4+4+4.5+0.6+0.6+0.6+0.6+0.37+0.7+0.7+7.3+ | G42: ㎡ | H42: =(3.7+3.55+3.55+6.5+6.5+4+4+4.5+0.6+0.6+0.6+0.6+0.37+0.7+0.7+7.3+7.3+7.35+0.7+0.7+4.2+4.2+0.9)*2.6 -> 190.112 | J42: =ROUND(H42,2) -> 190.11
F43: 7.3+7.35+0.7+0.7+4.2+4.2+0.9)*2.6
...
