Workbook
Name _: #REF!
Name _: #REF!
Name _: #REF!
Name ______DOG1: #REF!
Name ______DOG1: #REF!
Name ______DOG1: #REF!
Name ______DOG2: #REF!
Name ______DOG2: #REF!
Name ______DOG2: #REF!
Name ______DOG3: #REF!
Name ______DOG3: #REF!
Name ______DOG3: #REF!
Name ______DOG4: #REF!
Name ______DOG4: #REF!
Name ______DOG4: #REF!
Name ______PI48: #REF!
Name ______PI48: #REF!
Name ______PI48: #REF!
Name ______PI60: #REF!
Name ______PI60: #REF!
Name ______PI60: #REF!
Name ______RO110: #REF!
Name ______RO110: #REF!
Name ______RO110: #REF!
Name ______RO22: #REF!
Name ______RO22: #REF!
Name ______RO22: #REF!
Name ______RO35: #REF!
Name ______RO35: #REF!
Name ______RO35: #REF!
Name ______RO60: #REF!
Name ______RO60: #REF!
Name ______RO60: #REF!
Name ______RO80: #REF!
Name ______RO80: #REF!
Name ______RO80: #REF!
Name ______TON1: #REF!
Name ______TON1: #REF!
Name ______TON1: #REF!
Name ______TON2: #REF!
Name ______TON2: #REF!
Name ______TON2: #REF!
Name ______WW2: #REF!
Name ______WW2: #REF!
Name ______WW2: #REF!
Name ______WW6: #REF!
Name ______WW6: #REF!
Name ______WW6: #REF!
Name ____DOG22: #REF!
Name ____DOG22: #REF!
Name ____DOG22: #REF!
Name ____DOG33: #REF!
Name ____DOG33: #REF!
Name ____DOG33: #REF!
Name ____KK5000: #REF!
Name ____KK5000: #REF!
Name ____KK5000: #REF!
Name ____PB1: #REF!
Name ____PB1: #REF!
Name ____PB1: #REF!

Sheet ECSYSTEM

Sheet 원가계산
A1: Ⅳ. 용역원가계산서
A3: 건 명 : '17년 중소기업기술정보진흥원 파견사업주 선정 | M3: 단위 : 원/월
A4: 구 분 비 목 | F4: 일반사무 용역비 | I4: 비서 용역비 | L4: 계 | M4: 비 고
F5: 투입 인원 | G5: 단위(1인)당 월간용역비 | H5: 소 계 | I5: 투입 인원 | J5: 단위(1인)당 월간용역비 | K5: 소 계
A6: 인건비 | B6: 기 본 급 | F6: =투입인원!D7 -> 17 | G6: =단위당인건비!E6 -> 0 | H6: =TRUNC(F6*G6,0) -> 0 | I6: =투입인원!D8 -> 1 | J6: =단위당인건비!E20 -> 0 | K6: =TRUNC(I6*J6,0) -> 0 | L6: =H6+K6 -> 0 | M6: 주1) | N6: < 표 : 2 > 참조
B7: 제수당(연차수당) | F7: =F6 -> 17 | G7: =단위당인건비!E7 -> 0 | H7: =TRUNC(F7*G7,0) -> 0 | I7: =I6 -> 1 | J7: =단위당인건비!E21 -> 0 | K7: =TRUNC(I7*J7,0) -> 0 | L7: =H7+K7 -> 0
B8: 상 여 금 | F8: =F7 -> 17 | G8: =단위당인건비!E8 -> 0 | H8: =TRUNC(F8*G8,0) -> 0 | I8: =I7 -> 1 | J8: =단위당인건비!E22 -> 0 | K8: =TRUNC(I8*J8,0) -> 0 | L8: =H8+K8 -> 0
B9: 퇴 직 급 여 충 당 금 | F9: =F8 -> 17 | G9: =단위당인건비!E9 -> 0 | H9: =TRUNC(F9*G9,0) -> 0 | I9: =I8 -> 1 | J9: =단위당인건비!E23 -> 0 | K9: =TRUNC(I9*J9,0) -> 0 | L9: =H9+K9 -> 0
B10: 계 | G10: =SUM(G6:G9) -> 0 | H10: =SUM(H6:H9) -> 0 | J10: =SUM(J6:J9) -> 0 | K10: =SUM(K6:K9) -> 0 | L10: =H10+K10 -> 0
A11: 경비 | B11: 보 험 료 | D11: 산재보험료 | F11: =F9 -> 17 | G11: =경비산출표!E7 -> 0 | H11: =TRUNC(F11*G11,0) -> 0 | I11: =I9 -> 1 | J11: =경비산출표!F7 -> 0 | K11: =TRUNC(I11*J11,0) -> 0 | L11: =H11+K11 -> 0 | M11: 주2) | N11: < 표 : 9 > 참조
D12: 국민연금 | F12: =F11 -> 17 | G12: =경비산출표!E8 -> 0 | H12: =TRUNC(F12*G12,0) -> 0 | I12: =I11 -> 1 | J12: =경비산출표!F8 -> 0 | K12: =TRUNC(I12*J12,0) -> 0 | L12: =H12+K12 -> 0
D13: 고용보험료 | F13: =F12 -> 17 | G13: =경비산출표!E9 -> 0 | H13: =TRUNC(F13*G13,0) -> 0 | I13: =I12 -> 1 | J13: =경비산출표!F9 -> 0 | K13: =TRUNC(I13*J13,0) -> 0 | L13: =H13+K13 -> 0
D14: 국민건강보험료 | F14: =F13 -> 17 | G14: =경비산출표!E10 -> 0 | H14: =TRUNC(F14*G14,0) -> 0 | I14: =I13 -> 1 | J14: =경비산출표!F10 -> 0 | K14: =TRUNC(I14*J14,0) -> 0 | L14: =H14+K14 -> 0
D15: =경비산출표!C11 -> 노인장기요양보험료 | F15: =F14 -> 17 | G15: =경비산출표!E11 -> 0 | H15: =TRUNC(F15*G15,0) -> 0 | I15: =I14 -> 1 | J15: =경비산출표!F11 -> 0 | K15: =TRUNC(I15*J15,0) -> 0 | L15: =H15+K15 -> 0
D16: 임금채권보장보험료 | F16: =F15 -> 17 | G16: =경비산출표!E12 -> 0 | H16: =TRUNC(F16*G16,0) -> 0 | I16: =I15 -> 1 | J16: =경비산출표!F12 -> 0 | K16: =TRUNC(I16*J16,0) -> 0 | L16: =H16+K16 -> 0
B17: =경비산출표!A13 -> 교통통신비 | F17: =시내교통비!A1&시내교통비!A2&" 참조" -> < 표 : 13 > 교통통신비산출표 참조 | L17: =경비산출표!G13 -> 1890000
B18: =경비산출표!A14 -> 식대비 | F18: =+식대비!A1&식대비!A2&" 참조" -> < 표 : 14 > 식대비산출표 참조 | L18: =경비산출표!G14 -> 2519748
B19: 계 | F19: 보험료 ＋ 교통통신비 ＋ 식대비 | O19: 상여금 | P19: 4
A20: 순 용 역 원 가 | F20: 인건비 ＋ 경비 | L20: =L19+L10 -> 0
A21: 일 반 관 리 비(8%) | F21: (인건비 ＋ 경비) × 일반관리비율(8%) | L21: =TRUNC(L20*8%,0) -> 0 | M21: 주3) | N21: < 표 : 18 > 참조 | O21: =일반!F8 -> 0 | P21: =O21=L21 -> TRUE
A22: 이 윤(10%) | F22: (인건비 ＋ 경비 ＋ 일반관리비) × 이윤율(10%) | L22: =TRUNC(SUM(L10,L19,L21)*10%,0) -> 0 | M22: 주4) | N22: < 표 : 20 > 참조 | O22: =이윤!G8 -> 0 | P22: =O22=L22 -> TRUE
A23: 용역원가 | F23: 순용역원가 ＋ 일반관리비 ＋ 이윤 | L23: =SUM(L20:L22) -> 0
A24: 부 가 가 치 세(10%) | F24: 용역원가 × 부가가치세율(10%) | L24: =TRUNC(L23*10%,0) -> 0
A25: 합 계(1개월기준) | F25: 용역원가 ＋ 부가가치세 | L25: =ROUNDDOWN(SUM(L23:L24),-3) -> 0
A26: 과업기간(개월) | F26: 제시된 본 과업에 대한 제안요청서 참조 | L26: 12
A27: 총용역비 | F27: 합계 × 과업기간(12개월) | L27: =TRUNC(L25*L26,) -> 0
A28: ="주1) "&A6&" : "&단위당인건비!A1&단위당인건비!A2&" 참조" -> 주1) 인건비 : < 표 : 2 > 직무별(1인) 인건비산출표 참조
A29: =" 2) "&A11&" : "&경비산출표!A1&경비산출표!A2&" 참조" -> 2) 경비 : < 표 : 9 > 직무별 경비집계표 참조
A30: =" 3) 일반관리비 : "&일반!A1&일반!A2&" 참조" -> 3) 일반관리비 : < 표 : 15 > 일반관리비산출표 참조
A31: =" 4) 이윤 : "&이윤!A1&이윤!A2&" 참조" -> 4) 이윤 : < 표 : 17 > 이윤산출표 참조
A32: =" 5) 1개월 기준 산정표는 "&'1개월기준'!A1&'1개월기준'!A2:M2&" 참조" -> 5) 1개월 기준 산정표는 [ 별첨 ] 용역원가계산서 (1개월 기준) 참조

Sheet 1개월기준
A1: [ 별첨 ]
A2: 용역원가계산서 (1개월 기준)
A4: 건 명 : '17년 중소기업기술정보진흥원 파견사업주 선정 | M4: 단위 : 원/월
A5: 구 분 비 목 | F5: 일반사무 용역비 | I5: 비서 용역비 | L5: 계 | M5: 비 고
F6: 투입 인원 | G6: 단위(1인)당 월간용역비 | H6: 소 계 | I6: 투입 인원 | J6: 단위(1인)당 월간용역비 | K6: 소 계
A7: 인건비 | B7: 기 본 급 | F7: =투입인원!D7 -> 17 | G7: =단위당인건비!E6 -> 0 | H7: =TRUNC(F7*G7,0) -> 0 | I7: =투입인원!D8 -> 1 | J7: =단위당인건비!E20 -> 0 | K7: =TRUNC(I7*J7,0) -> 0 | L7: =H7+K7 -> 0 | M7: 주1) | N7: < 표 : 2 > 참조
B8: 제수당(연차수당) | F8: =F7 -> 17 | G8: =단위당인건비!E7 -> 0 | H8: =TRUNC(F8*G8,0) -> 0 | I8: =I7 -> 1 | J8: =단위당인건비!E21 -> 0 | K8: =TRUNC(I8*J8,0) -> 0 | L8: =H8+K8 -> 0
B9: 상 여 금 | F9: =F8 -> 17 | G9: =단위당인건비!E8 -> 0 | H9: =TRUNC(F9*G9,0) -> 0 | I9: =I8 -> 1 | J9: =단위당인건비!E22 -> 0 | K9: =TRUNC(I9*J9,0) -> 0 | L9: =H9+K9 -> 0
B10: 퇴 직 급 여 충 당 금 | F10: =F9 -> 17 | G10: =단위당인건비!E9 -> 0 | H10: =TRUNC(F10*G10,0) -> 0 | I10: =I9 -> 1 | J10: =단위당인건비!E23 -> 0 | K10: =TRUNC(I10*J10,0) -> 0 | L10: =H10+K10 -> 0
B11: 계 | G11: =SUM(G7:G10) -> 0 | H11: =SUM(H7:H10) -> 0 | J11: =SUM(J7:J10) -> 0 | K11: =SUM(K7:K10) -> 0 | L11: =H11+K11 -> 0
A12: 경비 | B12: 보 험 료 | D12: 산재보험료 | F12: =F10 -> 17 | G12: =경비산출표!E7 -> 0 | H12: =TRUNC(F12*G12,0) -> 0 | I12: =I10 -> 1 | J12: =경비산출표!F7 -> 0 | K12: =TRUNC(I12*J12,0) -> 0 | L12: =H12+K12 -> 0 | M12: 주2) | N12: < 표 : 9 > 참조
D13: 국민연금 | F13: =F12 -> 17 | G13: =경비산출표!E8 -> 0 | H13: =TRUNC(F13*G13,0) -> 0 | I13: =I12 -> 1 | J13: =경비산출표!F8 -> 0 | K13: =TRUNC(I13*J13,0) -> 0 | L13: =H13+K13 -> 0
D14: 고용보험료 | F14: =F13 -> 17 | G14: =경비산출표!E9 -> 0 | H14: =TRUNC(F14*G14,0) -> 0 | I14: =I13 -> 1 | J14: =경비산출표!F9 -> 0 | K14: =TRUNC(I14*J14,0) -> 0 | L14: =H14+K14 -> 0
D15: 국민건강보험료 | F15: =F14 -> 17 | G15: =경비산출표!E10 -> 0 | H15: =TRUNC(F15*G15,0) -> 0 | I15: =I14 -> 1 | J15: =경비산출표!F10 -> 0 | K15: =TRUNC(I15*J15,0) -> 0 | L15: =H15+K15 -> 0
D16: =경비산출표!C11 -> 노인장기요양보험료 | F16: =F15 -> 17 | G16: =경비산출표!E11 -> 0 | H16: =TRUNC(F16*G16,0) -> 0 | I16: =I15 -> 1 | J16: =경비산출표!F11 -> 0 | K16: =TRUNC(I16*J16,0) -> 0 | L16: =H16+K16 -> 0
D17: 임금채권보장보험료 | F17: =F16 -> 17 | G17: =경비산출표!E12 -> 0 | H17: =TRUNC(F17*G17,0) -> 0 | I17: =I16 -> 1 | J17: =경비산출표!F12 -> 0 | K17: =TRUNC(I17*J17,0) -> 0 | L17: =H17+K17 -> 0
B18: =경비산출표!A13 -> 교통통신비 | L18: =경비산출표!G13 -> 1890000
B19: =경비산출표!A14 -> 식대비 | L19: =경비산출표!G14 -> 2519748
B20: 계 | L20: =SUM(L12:L19) -> 4409748 | O20: 상여금 | P20: 4
A21: 순 용 역 원 가 | L21: =L20+L11 -> 4409748 | Q21: =L21/13 -> 339211.38
A22: 일 반 관 리 비(8%) | L22: =TRUNC(L21*8%,0) -> 352779 | M22: 주3) | N22: < 표 : 18 > 참조 | O22: =일반!F8 -> 0 | P22: =O22=L22 -> FALSE
A23: 이 윤(10%) | L23: =TRUNC(SUM(L11,L20,L22)*10%,0) -> 476252 | M23: 주4) | N23: < 표 : 20 > 참조 | O23: =이윤!G8 -> 0 | P23: =O23=L23 -> FALSE
A24: 용 역 원 가 | L24: =SUM(L21:L23) -> 5238779
A25: 부 가 가 치 세(10%) | L25: =TRUNC(L24*10%,0) -> 523877 | O25: 원가총액 | P25: 예산 | Q25: 등락금액 | R25: 등락율
A26: 합 계 | L26: =ROUNDDOWN(SUM(L24:L25),-3) -> 5762000 | O26: =L26*L27 -> 5762000 | P26: 20000000 | Q26: =O26-P26 -> -14238000 | R26: =Q26/P26 -> -0.7119 | T26: =L26/13 -> 443230.77
A27: 과업기간(개월) | L27: 1
A28: 총용역비 | L28: =TRUNC(L26*L27,) -> 5762000 | O28: 13368000 | P28: =L26*12 -> 69144000
A29: ="주1) "&A7&" : "&단위당인건비!A1&단위당인건비!A2&" 참조" -> 주1) 인건비 : < 표 : 2 > 직무별(1인) 인건비산출표 참조 | O29: 469260000
A30: ="주2) "&A12&" : "&경비산출표!A1&경비산출표!A2&" 참조" -> 주2) 경비 : < 표 : 9 > 직무별 경비집계표 참조
A31: ="주3) 일반관리비 : "&일반!A1&일반!A2&" 참조" -> 주3) 일반관리비 : < 표 : 15 > 일반관리비산출표 참조
A32: ="주4) 이윤 : "&이윤!A1&이윤!A2&" 참조" -> 주4) 이윤 : < 표 : 17 > 이윤산출표 참조

Sheet 인건비집계
A1: < 표 : 1 >
A2: 직무별(1인) 인건비집계표
H4: 단위 : 원/월
A5: 구 분 | B5: 직 책 | C5: 기본급 | D5: 제수당 | E5: 상여금 | F5: 퇴직급여 충당금 | G5: 계 | H5: 비 고
A7: =단가대비표!A7 -> 파견근로자 | B7: =단가대비표!B8 -> 일반사무 | C7: =단위당인건비!E6 -> 0 | D7: =단위당인건비!E7 -> 0 | E7: =단위당인건비!E8 -> 0 | F7: =단위당인건비!E9 -> 0 | G7: =SUM(C7:F7) -> 0
B8: =단가대비표!B9 -> 비서 | C8: =단위당인건비!E20 -> 0 | D8: =단위당인건비!E21 -> 0 | E8: =단위당인건비!E22 -> 0 | F8: =단위당인건비!E23 -> 0 | G8: =SUM(C8:F8) -> 0
A10: ="주) "&단위당인건비!A1&단위당인건비!A2&" 참조" -> 주) < 표 : 2 > 직무별(1인) 인건비산출표 참조

Sheet 단위당인건비
A1: < 표 : 2 >
A2: 직무별(1인) 인건비산출표
A4: ="구분 : "&단가대비표!A7 -> 구분 : 파견근로자 | E4: ="직무 : "&단가대비표!B8 -> 직무 : 일반사무 | H4: 단위 : 원/월 | I4: 209 | J4: 월근로시간
A5: 비 목 | E5: 금 액 | G5: 관 련 법 규 | H5: 비 고
A6: 기본급 | E6: =단가대비표!G8 -> 0 | G6: 시중노임단가를 기준 | H6: 주 1)
A7: 제수당 | C7: 연차수당 | E7: =TRUNC(E6/$I$4*8*15/12,0) -> 0 | G7: 근로기준법 제 60조 | H7: 주 2)
A8: 상여금 | E8: =TRUNC(E6*J8/12,0) -> 0 | G8: 예정가격 작성기준 제 26조 | H8: 주 3) | J8: =+원가계산!P19 -> 4
A9: 퇴직급여충당금 | E9: =TRUNC(SUM(E6,E7,E8)/12,0) -> 0 | G9: 근로자퇴직급여 보장법 제8조 | H9: 주 4)
A10: 계 | E10: =SUM(E6:E9) -> 0
A11: ="주 1) 기본급 : "&단가대비표!$A$1&단가대비표!$A$2&" 참조" -> 주 1) 기본급 : < 표 : 3 > 월(M/M)당기본급 산출표 참조 | J11: 년차근로수당
A12: =" 2) 년차수당 : "&FIXED(E6,0)&"(기본급)÷"&$I$4&"(월근로시간)×8시간(일근로시간)×15일/년÷12개월" -> 2) 년차수당 : 0(기본급)÷209(월근로시간)×8시간(일근로시간)×15일/년÷12개월
A13: =" 3) 상여금 : "&FIXED(E6,0)&"(기본급)×4개월(년 400%적용)÷12개월" -> 3) 상여금 : 0(기본급)×4개월(년 400%적용)÷12개월
A14: =" 4) 퇴직급여충당금 : {"&FIXED(E6,0)&"(기본급) + "&FIXED(E7,0)&"(제수당) + "&FIXED(E8,0)&"(상여금)}÷12개월" -> 4) 퇴직급여충당금 : {0(기본급) + 0(제수당) + 0(상여금)}÷12개월
A16: 직무별(1인) 인건비산출표
A18: ="구분 : "&단가대비표!A7 -> 구분 : 파견근로자 | E18: ="직무 : "&단가대비표!B9 -> 직무 : 비서 | H18: 단위 : 원/월
A19: 비 목 | E19: 금 액 | G19: 관 련 법 규 | H19: 비 고
A20: 기본급 | E20: =단가대비표!G9 -> 0 | G20: 시중노임단가를 기준 | H20: 주 1)
A21: 제수당 | C21: 연차수당 | E21: =TRUNC(E20/$I$4*8*15/12,0) -> 0 | G21: 근로기준법 제 60조 | H21: 주 2)
A22: 상여금 | E22: =TRUNC(E20*J22/12,0) -> 0 | G22: 예정가격 작성기준 제 26조 | H22: 주 3) | J22: =J8 -> 4
A23: 퇴직급여충당금 | E23: =TRUNC(SUM(E20,E21,E22)/12,0) -> 0 | G23: 근로자퇴직급여 보장법 제8조 | H23: 주 4)
A24: 계 | E24: =SUM(E20:E23) -> 0
A25: ="주 1) 기본급 : "&단가대비표!$A$1&단가대비표!$A$2&" 참조" -> 주 1) 기본급 : < 표 : 3 > 월(M/M)당기본급 산출표 참조
A26: =" 2) 년차수당 : "&FIXED(E20,0)&"(기본급)÷"&$I$4&"(월근로시간)×8시간(일근로시간)×15일/년÷12개월" -> 2) 년차수당 : 0(기본급)÷209(월근로시간)×8시간(일근로시간)×15일/년÷12개월
A27: =" 3) 상여금 : "&FIXED(E20,0)&"(기본급)×4개월(년 400%적용)÷12개월" -> 3) 상여금 : 0(기본급)×4개월(년 400%적용)÷12개월
A28: =" 4) 퇴직급여충당금 : {"&FIXED(E20,0)&"(기본급) + "&FIXED(E21,0)&"(제수당) + "&FIXED(E22,0)&"(상여금)}÷12개월" -> 4) 퇴직급여충당금 : {0(기본급) + 0(제수당) + 0(상여금)}÷12개월

Sheet 단가대비표
A1: < 표 : 3 >
A2: 월(M/M)당기본급 산출표
H4: 단위 : 원/월
A5: 구 분 | B5: 직 책 | C5: 적 용 직 종 주1) | E5: 일(M/D)당 기본급 | F5: 월기준 일수 | G5: 월(M/M)당 기본급 | H5: 비 고
C6: 직종번호 | D6: 직 종 명
A7: =투입인원!A7 -> 파견근로자 | E7: 주 2) | F7: 주 3) | G7: 주 4)
B8: =근무형태!B7 -> 일반사무 | C8: 제조-135 | D8: 단순노무종사원 | G8: =TRUNC(F8*E8,0) -> 0
B9: =근무형태!B8 -> 비서 | C9: 제조-135 | D9: 단순노무종사원 | G9: =TRUNC(F9*E9,0) -> 0
A10: ="주 1) 적용직종 : 제시된 제안요청서 및 용역업무의 특성을 감안하여 유사 직종을 적용하였음" -> 주 1) 적용직종 : 제시된 제안요청서 및 용역업무의 특성을 감안하여 유사 직종을 적용하였음
A11: =" 2) 일(M/D)당기본급 : 중소기업중앙회에서 조사 공표한 해당직종 2016년도 시중노임단가 기준" -> 2) 일(M/D)당기본급 : 중소기업중앙회에서 조사 공표한 해당직종 2016년도 시중노임단가 기준
A12: =" 3) 월기준일수 : "&산정기준!A1&산정기준!A2&" 참조" -> 3) 월기준일수 : < 표 : 4 > 인건비산정기준 및 관련법규 참조
A13: 4) 월(M/M)당기본급 : 일(M/D)당기본급×월근로일수

Sheet 산정기준
A1: < 표 : 4 >
A2: 인건비산정기준 및 관련법규
A5: 비 목 | E5: 관 련 법 규 | F5: 산 정 기 준 | G5: 적 용 방 법 | H5: 비 고
A7: 기본급 | E7: 통계청승인기관인 중소기업 중앙회에서 발표한 시중 노임단가 적용 | F7: =J7&"일÷10개월 ≒ "&I7&"일 본 조사에서는 일급을 기준으로 월 실근무일수를 승하여 산출하였다" -> 246일÷10개월 ≒ 21일 본 조사에서는 일급을 기준으로 월 실근무일수를 승하여 산출하였다 | G7: ="시중노임단가×"&I7&"일" -> 시중노임단가×21일 | I7: =근무일수!Q7 -> 21 | J7: =근무일수!N7 -> 246
A8: 제수당 | C8: 연차수당 | E8: 근로기준법 제 60조 | F8: (연차유급휴가) 사용자는 1년간 8할이상 출근한 근로자에 대하여는 15일의 유급휴가를 주어야 한다. | G8: 기본급÷월근로시간× 일근로시간×15일/년÷12개월
A9: 상여금 | E9: 예정가격작성기준 제 26조 | F9: ="상여금은 기획재정부 계약예규 예정가격 작성기준 제26조에 의거 기본급의 연 400%를 계상하였다." -> 상여금은 기획재정부 계약예규 예정가격 작성기준 제26조에 의거 기본급의 연 400%를 계상하였다. | G9: ="기본급×"&I9&"%" -> 기본급×400% | I9: 400
A10: 퇴직급여충당금 | E10: 근로기준법 제34조 근로자퇴직급여 보장법 제8조 | F10: (퇴직금제도) 퇴직금제도를 설정하고자 하는 사용자는 계속근로기간 1년에 대하여 30일분 이상의 평균임금을 퇴직금으로 퇴직하는 근로자에게 지급할 수 있는 제도를 설정하여야 한다. | G10: (기본급+제수당+상여금)÷12개월

Sheet 근무형태
A1: < 표 : 5 >
A2: 직종별 근무형태 현황표
I4: 단위 : 인
A5: 구 분 | B5: 직 무 | C5: 투입인원 | D5: 근무형태별 투입인원 | H5: 근무형태 | I5: 비 고
D6: 주간근무 | E6: 야간근무 | F6: 휴무 | G6: 계
A7: =인건비집계!A7 -> 파견근로자 | B7: =투입인원!B7 -> 일반사무 | C7: =투입인원!D7 -> 17 | D7: 17 | G7: =SUM(D7:F7) -> 17 | H7: 주간근무
B8: =투입인원!B8 -> 비서 | C8: =투입인원!D8 -> 1 | D8: 1 | G8: =SUM(D8:F8) -> 1 | H8: 주간근무
A9: 계 | C9: =SUM(C7:C8) -> 18 | D9: =SUM(D7:D8) -> 18 | G9: =SUM(D9:F9) -> 18
A10: ="주 1) 관리인원 : "&투입인원!A1&투입인원!A2&" 참조" -> 주 1) 관리인원 : < 표 : 6 > 적용직종 및 투입인원산정표 참조
A11: 주 2) 제시된 제안요청서 참조(평일근무 : 09:00 ~ 18:00)

Sheet 투입인원
A1: < 표 : 6 >
A2: 적용직종 및 투입인원산정표
A5: 구 분 | B5: 직 무 | C5: 단 위 | D5: 투입인원 | E5: 비 고
A7: 파견근로자 | B7: 일반사무 | C7: 인 | D7: 17
B8: 비서 | C8: 인 | D8: 1
A9: 계 | D9: =SUM(D7:D8) -> 18
A10: 주) 제시된 제안요청서 및 현장여건을 감안하여 투입인원을 적용하였음

Sheet 근무일수
A1: < 표 : 7 >
A2: 용역기간현황표
A4: 기간 : 2017년 1월 1일 ~ 2017년 12월 31일(12개월)
A5: 구 분 | B5: 2017년 1월 1일 ~ 12월 31일 | N5: 계 | O5: 비 고
B6: 1월 | C6: 2월 | D6: 3월 | E6: 4월 | F6: 5월 | G6: 6월 | H6: 7월 | I6: 8월 | J6: 9월 | K6: 10월 | L6: 11월 | M6: 12월 | P6: 월근무일수 | Q6: 지우면안됨
A7: 평일(월~금) | B7: 20 | C7: 20 | D7: 22 | E7: 20 | F7: 21 | G7: 21 | H7: 21 | I7: 22 | J7: 21 | K7: 17 | L7: 22 | M7: 19 | N7: =SUM(B7:M7) -> 246 | P7: =N7/12 -> 20.5 | Q7: =ROUND((N7)/12,0) -> 21
A8: 토요일 | B8: 3 | C8: 4 | D8: 4 | E8: 5 | F8: 4 | G8: 4 | H8: 5 | I8: 4 | J8: 5 | K8: 4 | L8: 4 | M8: 5 | N8: =SUM(B8:M8) -> 51
A9: 일요일 | B9: 3 | C9: 4 | D9: 4 | E9: 5 | F9: 4 | G9: 4 | H9: 5 | I9: 4 | J9: 4 | K9: 5 | L9: 4 | M9: 5 | N9: =SUM(B9:M9) -> 51
A10: 공휴일 및 명절 | B10: 5 | D10: 1 | F10: 2 | G10: 1 | I10: 1 | K10: 5 | M10: 2 | N10: =SUM(B10:M10) -> 17
A11: 계 | B11: =SUM(B7:B10) -> 31 | C11: =SUM(C7:C10) -> 28 | D11: =SUM(D7:D10) -> 31 | E11: =SUM(E7:E10) -> 30 | F11: =SUM(F7:F10) -> 31 | G11: =SUM(G7:G10) -> 30 | H11: =SUM(H7:H10) -> 31 | I11: =SUM(I7:I10) -> 31 | ... N11: =SUM(N7:N10) -> 365
A12: 주) 제시된 제안요청서 참조

Sheet 작업범위
A1: < 표 : 8 >
A2: 운영 및 업무범위
A5: 구 분 | B5: 업 무 범 위 | D5: 비 고
A6: 파견사업주의 업무 | B6: 가. | C6: 파견근로자의 원활한 공급 및 체계적 관리
B7: * | C7: 파견근로자의 입사, 퇴사, 급여 및 복리후생 관리
B8: * | C8: 파견근로자의 중도퇴사 예방을 위한 적극적 방안 마련
B9: * | C9: 파견근로자의 신원보증 및 업무 과실 책임 등
B10: 나. | C10: 근로자 파견 관련 법률 및 정보 제공
B11: 다. | C11: 파견근로자에 대한 법정교육 실시
A12: 파견근로자의 업무 | B12: 가. | C12: 일반사무
B13: 나. | C13: 비서

Sheet 경비산출표
A1: < 표 : 9 >
A2: 직무별 경비집계표
H4: 단위 : 원/월
A5: 비 목 | E5: =투입인원!A7 -> 파견근로자 | G5: 계 | H5: 비 고
E6: =인건비집계!B7&"(1인)" -> 일반사무(1인) | F6: =인건비집계!B8&"(1인)" -> 비서(1인)
A7: 보 험 료 | C7: =보험료!C7 -> 산재보험료 | E7: =보험료!J7 -> 0 | F7: =보험료!J22 -> 0 | G7: =SUM(E7:F7) -> 0 | H7: 주 1)
C8: =보험료!C8 -> 국민연금 | E8: =보험료!J8 -> 0 | F8: =보험료!J23 -> 0 | G8: =SUM(E8:F8) -> 0
C9: =보험료!C9 -> 고용보험료 | E9: =보험료!J9 -> 0 | F9: =보험료!J24 -> 0 | G9: =SUM(E9:F9) -> 0
C10: =보험료!C10 -> 국민건강보험료 | E10: =보험료!J10 -> 0 | F10: =보험료!J25 -> 0 | G10: =SUM(E10:F10) -> 0
C11: =보험료!C11 -> 노인장기요양보험료 | E11: =보험료!J11 -> 0 | F11: =보험료!J26 -> 0 | G11: =SUM(E11:F11) -> 0
C12: =보험료!C12 -> 임금채권보장보험료 | E12: =보험료!J12 -> 0 | F12: =보험료!J27 -> 0 | G12: =SUM(E12:F12) -> 0
A13: 교통통신비 | G13: =시내교통비!H10 -> 1890000 | H13: 주2)
A14: 식대비 | G14: =식대비!H10 -> 2519748 | H14: 주3)
A15: ="주 1) 보험료 : "&보험료!A1&보험료!A2&" 참조" -> 주 1) 보험료 : < 표 : 10 > 직무별(1인) 보험료산출표 참조
A16: =" 2) "&A13&" : "&시내교통비!A1&시내교통비!A2&" 참조" -> 2) 교통통신비 : < 표 : 13 > 교통통신비산출표 참조
A17: =" 3) "&A14&" : "&식대비!A1&식대비!A2&" 참조" -> 3) 식대비 : < 표 : 14 > 식대비산출표 참조

Sheet 보험료
A1: < 표 : 10 >
A2: 직무별(1인) 보험료산출표
A4: =단위당인건비!A4 -> 구분 : 파견근로자 | E4: =단위당인건비!E4 -> 직무 : 일반사무 | K4: 단위 : 원/월
A5: 비 목 | E5: 적 용 대 상 액 주1) | I5: 비율(%) | J5: 금 액 | K5: 비 고 | L5: 산출기준 : 회사부담분에 대한 금액만 산출 / 개인 부담분은 개인급여를 기준하여 징수하므로 급여에 포함 됨
E6: 기본급 | F6: 제수당 | G6: 상여금 | H6: 계
A7: 보험료 | C7: 산재보험료 | I7: =경비산정기준!I7 -> 1 | J7: =TRUNC(H7*I7%,0) -> 0 | L7: 1 | M7: 19492 | N7: =J7-M7 -> -19492 | O7: 1949259 | P7: =H7-O7 -> -1949259
C8: 국민연금 | I8: =경비산정기준!I8 -> 4.5 | J8: =TRUNC(H8*I8%,0) -> 0 | L8: 4.5 | M8: 87716 | N8: =J8-M8 -> -87716 | O8: 1949259 | P8: =H8-O8 -> -1949259
C9: 고용보험료 | I9: =경비산정기준!I9 -> 0.9 | J9: =TRUNC(H9*I9%,0) -> 0 | L9: 0.9 | M9: 17543 | N9: =J9-M9 -> -17543 | O9: 1949259 | P9: =H9-O9 -> -1949259
C10: 국민건강보험료 | I10: =경비산정기준!I10 -> 3.06 | J10: =TRUNC(H10*I10%,0) -> 0 | L10: 3.035 | M10: 59160 | N10: =J10-M10 -> -59160 | O10: 1949259 | P10: =H10-O10 -> -1949259
C11: 노인장기요양보험료 | I11: =경비산정기준!I11 -> 6.55 | J11: =TRUNC(H11*I11%,0) -> 0 | L11: 6.55 | M11: 3874 | N11: =J11-M11 -> -3874 | O11: 59160 | P11: =H11-O11 -> -59160
C12: 임금채권보장보험료 | I12: =경비산정기준!I12 -> 0.06 | J12: =TRUNC(H12*I12%,0) -> 0 | L12: 0.08 | M12: 1559 | N12: =J12-M12 -> -1559 | O12: 1949259 | P12: =H12-O12 -> -1949259
A13: 계 | J13: =SUM(J7:J12) -> 0
A14: ="주 1) 적용대상액 : "&인건비집계!$A$1&인건비집계!$A$2&" 참조" -> 주 1) 적용대상액 : < 표 : 1 > 직무별(1인) 인건비집계표 참조
A15: =" 2) 비율(%) : "&경비산정기준!$A$1&경비산정기준!$A$2&" 참조" -> 2) 비율(%) : < 표 : 11 > 경비산정기준표 참조
A17: 직무별(1인) 보험료산출표
A19: =단위당인건비!A18 -> 구분 : 파견근로자 | E19: =단위당인건비!E18 -> 직무 : 비서 | K19: 단위 : 원/월
A20: 비 목 | E20: 적 용 대 상 액 주1) | I20: 비율(%) | J20: 금 액 | K20: 비 고
E21: 기본급 | F21: 제수당 | G21: 상여금 | H21: 계
A22: 보험료 | C22: 산재보험료 | I22: =I7 -> 1 | J22: =TRUNC(H22*I22%,0) -> 0
C23: 국민연금 | I23: =I8 -> 4.5 | J23: =TRUNC(H23*I23%,0) -> 0
C24: 고용보험료 | I24: =I9 -> 0.9 | J24: =TRUNC(H24*I24%,0) -> 0
C25: 국민건강보험료 | I25: =I10 -> 3.06 | J25: =TRUNC(H25*I25%,0) -> 0
C26: 노인장기요양보험료 | I26: =I11 -> 6.55 | J26: =TRUNC(H26*I26%,0) -> 0
C27: 임금채권보장보험료 | I27: =I12 -> 0.06 | J27: =TRUNC(H27*I27%,0) -> 0
A28: 계 | J28: =SUM(J22:J27) -> 0
A29: ="주 1) 적용대상액 : "&인건비집계!$A$1&인건비집계!$A$2&" 참조" -> 주 1) 적용대상액 : < 표 : 1 > 직무별(1인) 인건비집계표 참조
A30: =" 2) 비율(%) : "&경비산정기준!$A$1&경비산정기준!$A$2&" 참조" -> 2) 비율(%) : < 표 : 11 > 경비산정기준표 참조

Sheet 경비산정기준
A1: < 표 : 11 >
A2: 경비산정기준표
A5: 비 목 | E5: 관 련 법 규 | F5: 산 정 기 준 | G5: 적 용 방 법 | H5: 비 고 | I5: %
J6: 회사부담분만 산정하여 줌, 개인부담은 급여에서 원천징수기준
A7: 보 험 료 | C7: 산재보험료 | E7: 고용보험 및 산업재해보상보험의 보험료징수 등에 관한법률 제14조제3항 및 동법 시행령 | F7: 고용노동부고시 제2015-101호 (2016년 1월 1일부터 시행) | G7: (기본급+제수당+상여금)×1% | H7: =산재비율!A1&" 참조" -> < 표 : 12 > 참조 | I7: 1 | J7: 고용노동부 고시문 참조 근로복지공단 홈페이지 - 정보공개 - 자료마당 - 실무자료
C8: 국민연금 | E8: 국민연금법 제88조 3항 | F8: 사업장가입자의 연금보험료중 기여금은 사업장가입자 본인이, 부담금은 사용자가 각각 부담하되, 그 금액은 각각 기준소득월액의 1천분의 45에 해당하는 금액으로 한다. | G8: (기본급+제수당+상여금)×4.5% | I8: 4.5 | J8: 국민연금관리공단 자료 참조(국민연급법 88조)
C9: 고용보험료 | E9: 고용보험 및 산업재해보상보험의 보험료징수 등에 관한법률 제14조 1항, 시행령 제12조 | F9: 시행령 제12조 법제14조1항의 규정에 의한 고용보험료율은 다음 각호와 같다. 1. 고용안정. 직업능력개발사업의 보험료율은 다음 각 목의 구분에 따른 보험료율 가. 상시근로자수가 150인 미만의 사업주의 사업 : 1만분의 25 나. 상시근로자수가 150인 이상의 사업주의 사업으로서 "고용보험법시행령" 제12조에 따른 우선지원 대상기업의 범위에 해당하는 사업 : 1만분의 45 다. 상시근로자수가 150인 이상 1천인 미만인 사업주의 사업으로서 나목에 해당하지 아니하는 사업 : 1만분의 65 라. 상시근로자수가 1천인 이상인 사업주의 사업으로서 나목에 해당하지 아니하는 사업 및 국가ㆍ지방자치단체가 직접 행하는 사업 : 1만분의 85 2. 실업급여의 보험율 : 1천분의 13(사업주 부담 0.65%) * 산출식 : 0.25%(고용안정.직업능력개발사업요율)+0.65%(실업급여의 보험율) | G9: (기본급+제수당+상여금)×0.9% | I9: =0.25+0.65 -> 0.9 | J9: 근로복지공단 자료 참조 - 메뉴 - 가입납부서비스 - 보험료등알아보기(0.25%+0.65%)=0.9%
C10: 국민건강 보험료 | E10: 국민건강보험법 제76조 1항 | F10: ① 직장가입자의 보수월액보험료는 직장가입자와 구분에 따른 자가 각각 보험료액의 100분의 50씩 부담한다. 1. 보수월액보험료: 사용자. 이 경우 사업장의 사용자가 2명 이상인 때에는 그 사업장의 사용자는 해당 직장가입자의 보험료를 연대하여 납부한다. 2. 소득월액보험료: 직장가입자 국민건강보험법 제76조에 의한 보험요율의 표준보수월액의 6.12% (사용자부담 50%,근로자부담 50%) | G10: (기본급+제수당+상여금)×3.06% | I10: 3.06 | J10: 국민건강보험공단 홈페이지 - 건강보험안내 - 보험료 - 4대 사회보험료 계산 - 국민건강보험료 직장가입자
C11: 노인장기 요양보험료 | E11: 노인장기요양보험법 제9조 1항, 시행령 제4조 | F11: (보헙료의 납부의무) 직장가입자의 보험료는 사용자가 납부한다. 노인장기요양보험법에 의한 보험요율은 국민건강보험료의 6.55% | G11: 산출건강보험료 × 6.55% | I11: 6.55 | J11: 건강보험공단 자료참조
C12: 임금채권 보장보험료 | E12: 임금채권보장법 제9조 2항 시행령 제13조 | F12: 노동부고시 제2015-95호(2016년 1월 1일부터 시행)의 규정에 의하여 임금채권보장기금 사업주부담금비율은 0.6/1000(전업종공통) | G12: (기본급+제수당+상여금)×0.06% | I12: 0.06 | J12: 고용노동부 고시문 참조
A13: 주) 보험료 산출기준 : 해당 비목별 2016년 현재 해당보험료 고시율을 기준하였으며 해당년도 고시율 적용시에는 원가 수정을 전제 함.

Sheet 산재비율
A1: < 표 : 12 >
A2: 산업재해보상보험요율
G4: (단위 : 1000분율)
B5: 사 업 종 류 | D5: 요율 | F5: 사 업 종 류 | G5: 요율
B6: 1. 광업 | F6: 계량기·광학기계·기타정밀 기구제조업 | G6: 9
B7: 석탄광업 | D7: 340 | F7: 수제품 제조업 | G7: 16
B8: 금속 및 비금속 광업 | D8: 77 | F8: 기타제조업 | G8: 28
B9: 채 석 업 | D9: 325 | F9: 3. 전기·가스·증기 및 수도사업 | G9: 10
B10: 석회석광업 | D10: 76 | F10: 4. 건 설 업 | G10: 38
B11: 기타 광업 | D11: 71 | F11: 5. 운수창고 및 통신업
B12: 2. 제조업 | F12: 철도궤도 및 삭도운수업 | G12: 9
B13: 식료품제조업 | D13: 19 | F13: 여객자동차운수업 | G13: 19
B14: 담배제조업 | D14: 8 | F14: 소형화물운수업 및 택배업, 퀵서비스업 | G14: 28
B15: 섬유 또는 섬유제품제조업(갑) | D15: 13 | F15: 화물자동차운수업 | G15: 66
B16: 섬유 또는 섬유제품제조업(을) | D16: 20 | F16: 수상운수업, 항만하역 및 화물 | G16: 29
B17: 목재 및 나무제품 제조업 | D17: 44 | F17: 취급사업
B18: 펄프․지류제조업 및 제본 또는 | D18: 24 | F18: 항공운수업 | G18: 9
B19: 인쇄물 가공업 | F19: 운수관련 서비스업 | G19: 9
B20: 신문·화폐발행, 출판업 및 인쇄업 | D20: 12 | F20: 창 고 업 | G20: 14
B21: 화학제품 제조업 | D21: 17 | F21: 통 신 업 | G21: 11
B22: 의약품 및 화장품 향료 제조업 | D22: 9 | F22: 6. 임 업 | G22: 89
B23: 코크스, 연탄 및 석유정제품 제조업 | D23: 12 | F23: 7. 어 업
B24: 고무제품 제조업 | D24: 21 | F24: 어업 | G24: 130
B25: 유리 제조업 | D25: 29 | F25: 양식어업 및 어업관련 서비스업 | G25: 30
B26: 도자기 및 기타 요업제품 제조업 | D26: 15 | F26: 8. 농 업 | G26: 27
B27: 시멘트 제조업 | D27: 29 | F27: 9. 기타의 사업
B28: 비금속광물제품 및 금속제품 | D28: 37 | F28: 건물등의 종합관리사업 | G28: 17
B29: 제조업 또는 금속가공업 | F29: 위생 및 유사서비스업 | G29: 32
B30: 금속제련업 | D30: 11 | F30: 기타의 각종사업 | G30: 10
B31: 금속재료품 제조업 | D31: 33 | F31: 전문기술서비스업 | G31: 9
B32: 도 금 업 | D32: 18 | F32: 보건 및 사회복지사업 | G32: 9
B33: 기계기구 제조업 | D33: 19 | F33: 교육서비스업 | G33: 7
B34: 전기기계기구 제조업 | D34: 11 | F34: 도소매 및 소비자용품수리업 | G34: 7
B35: 전자제품 제조업 | D35: 7 | F35: 부동산업 및 임대업 | G35: 7
B36: 선박건조 및 수리업 | D36: 25 | F36: 오락 문화 및 운동관련 사업 | G36: 10
B37: 수송용기계기구 제조업 | D37: 16 | F37: 국가 및 지방자치 단체의 행정 | G37: 8
B38: 자동차 및 모터사이클 수리업 | D38: 17 | F38: 10. 금융 보험업 | G38: 7
F39: * 해외파견자 : 17/1000
B40: 주) 고용노동부 고시 제2015-101호(2016년 1월 1일부터 시행)

Sheet 시내교통비
A1: < 표 : 13 >
A2: 교통통신비산출표
I4: 단위 : 원/월
A5: 비 목 | C5: 직 종 명 | E5: 단위 | F5: 수량 | G5: 단 가 | H5: 금 액 | I5: 비 고
F6: 주 1) | G6: 주 2)
A7: 교통비 | C7: 일반사무 | E7: 인 | F7: =TRUNC(J7*K7,0) -> 357 | G7: 5000 | H7: =G7*F7 -> 1785000 | I7: =""&J7&"인×"&K7&"일/월" -> 17인×21일/월 | J7: =투입인원!D7 -> 17 | K7: =근무일수!Q7 -> 21
C8: 비서 | E8: 인 | F8: =TRUNC(J8*K8,0) -> 21 | G8: 5000 | H8: =G8*F8 -> 105000 | I8: =""&J8&"인×"&K8&"일/월" -> 1인×21일/월 | J8: =투입인원!D8 -> 1 | K8: =K7 -> 21
A10: 계 | H10: =SUM(H7:H9) -> 1890000
A11: 주 1) 수량 : 제시된 제안요청서에 의거하여 산출하였음
A12: =" 2) 단가 : 시중유통거래가격 참조" -> 2) 단가 : 시중유통거래가격 참조

Sheet 식대비
A1: < 표 : 14 >
A2: 식대비산출표
I4: 단위 : 원/월
A5: 비 목 | C5: 직 종 명 | E5: 단위 | F5: 수량 | G5: 단 가 | H5: 금 액 | I5: 비 고
F6: 주 1) | G6: 주 2)
A7: 식대비 | C7: 일반사무 | E7: 인 | F7: =TRUNC(J7*K7,0) -> 357 | G7: 6666 | H7: =G7*F7 -> 2379762 | I7: =""&J7&"인×"&K7&"일/월" -> 17인×21일/월 | J7: =시내교통비!J7 -> 17 | K7: =시내교통비!K7 -> 21
C8: 비서 | E8: 인 | F8: =TRUNC(J8*K8,0) -> 21 | G8: 6666 | H8: =G8*F8 -> 139986 | I8: =""&J8&"인×"&K8&"일/월" -> 1인×21일/월 | J8: =시내교통비!J8 -> 1 | K8: =시내교통비!K8 -> 21
A10: 계 | H10: =SUM(H7:H9) -> 2519748
A11: 주 1) 수량 : 제시된 제안요청서에 의거하여 산출하였음
A12: =" 2) 단가 : 시중유통거래가격 참조" -> 2) 단가 : 시중유통거래가격 참조

Sheet 일반
A1: < 표 : 15 >
A2: 일반관리비산출표
F4: 단위 : 원/월
A5: 구 분 | B5: 적 용 대 상 액 | E5: 비율(%) | F5: 금 액 | G5: 비 고
B6: 인건비 | C6: 경 비 | D6: 계
B7: 주 1) | C7: 주 2) | E7: 주 3)
A8: =투입인원!A7 -> 파견근로자 | E8: =일반비율!E17 -> 8 | F8: =TRUNC(D8*E8%,0) -> 0
A10: =B7&" " &B6&" : "&원가계산!A1&" 참조" -> 주 1) 인건비 : Ⅳ. 용역원가계산서 참조
A11: =" 2) 경비 : "&원가계산!A1&" 참조" -> 2) 경비 : Ⅳ. 용역원가계산서 참조
A12: =" 3) 비율(%) : "&일반비율!A1&""&일반비율!A2&" 참조" -> 3) 비율(%) : < 표 : 16 > 일반관리비율산출표 참조

Sheet 일반비율
A1: < 표 : 16 >
A2: 일반관리비율산출표
A4: 1. 예규기준과 기업경영분석자료 비교
B5: 비 목 | E5: 계약예규기준(%) | F5: 기업경영분석 자료(백만원) | G5: 비 고
B7: 1) | C7: 매출원가 | G7: 주 1)
B8: 2) | C8: 동기간의 일반관리비
B9: - | C9: 판매비와일반관리비
B10: - | C10: 불인금액
C11: ① 접대비
C12: ② 광고선전비
C13: ③ 대손상각비
C14: ④ 무형자산상각비
C15: ⑤ 기타판매비와관리비
B17: 3) | C17: 일반관리비율(%) | E17: 8 | G17: 주 2)
A18: ="주 1) 금액 : "&#REF!&#REF!&"중 손익계산서 참조" -> #REF!
A19: 2) 일반관리비율 = (동기간의 일반관리비 ÷ 매출원가) × 100
A21: 2. 일반관리비율 적용비율
A22: =" 국가를 당사자로 하는 계약에 관한 법률 시행규칙 제8조에 의한 '행사관리 및 그 밖의 사업지원" -> 국가를 당사자로 하는 계약에 관한 법률 시행규칙 제8조에 의한 '행사관리 및 그 밖의 사업지원
A23: =" 용역'의 일반관리비 비율 적용 한도율은 "&E17&"%이며, 기업경영분석자료 비율은 "&F17&"%로 발생되어" -> 용역'의 일반관리비 비율 적용 한도율은 8%이며, 기업경영분석자료 비율은 %로 발생되어
A24: =" 본 원가산출시 적용 일반관리비율은 "&MIN(E17,F17)&"%를 적용하였다." -> 본 원가산출시 적용 일반관리비율은 8%를 적용하였다.

Sheet 이윤
A1: < 표 : 17 >
A2: 이윤산출표
G4: 단위 : 원/월
A5: 구 분 | B5: 적 용 대 상 액 | F5: 비율(%) | G5: 금 액 | H5: 비 고
B6: 인건비 | C6: 경 비 | D6: 일반관리비 | E6: 계
B7: 주 1) | C7: 주 2) | D7: 주 3) | F7: 주 4)
A8: =일반!A8 -> 파견근로자 | F8: =이윤율!E9 -> 10 | G8: =TRUNC(E8*F8%,0) -> 0
A10: =B7&" "&B6&" : "&원가계산!A1&" 참조" -> 주 1) 인건비 : Ⅳ. 용역원가계산서 참조
A11: =" 2) 경비 : "&원가계산!A1&" 참조" -> 2) 경비 : Ⅳ. 용역원가계산서 참조
A12: =" 3) 일반관리비 : "&일반!A1&일반!A2&" 참조" -> 3) 일반관리비 : < 표 : 15 > 일반관리비산출표 참조
A13: =" 4) 비율(%) : "&이윤율!A1&이윤율!A2&" 참조" -> 4) 비율(%) : < 표 : 18 > 이윤비율표 참조

Sheet 이윤율
A1: < 표 : 18 >
A2: 이윤비율표
B5: 구 분 | D5: 계약예규기준 비율(%) | E5: 조사적용 비율(%) | F5: 비 고
B7: 시설공사 | D7: 15
B8: 제조,구매 | D8: 25
B9: 용역 | D9: 10 | E9: 10
B10: 수입물품의구입 | D10: 10
A12: 주) 예정가격 작성기준(기획재정부계약예규 제281호, 2016.1.1) 제28조 참조
